BEGIN:VCALENDAR
PRODID:NingEventWidget-v1
VERSION:2.0
METHOD:PUBLISH
BEGIN:VTIMEZONE
TZID:Europe/Paris
X-LIC-LOCATION:Europe/Paris
BEGIN:DAYLIGHT
TZOFFSETFROM:+0100
TZOFFSETTO:+0200
TZNAME:CEST
DTSTART:19700329T020000
RRULE:FREQ=YEARLY;BYMONTH=3;BYDAY=-1SU
END:DAYLIGHT
BEGIN:STANDARD
TZOFFSETFROM:+0200
TZOFFSETTO:+0100
TZNAME:CET
DTSTART:19701025T030000
RRULE:FREQ=YEARLY;BYMONTH=10;BYDAY=-1SU
END:STANDARD
END:VTIMEZONE
BEGIN:VEVENT
UID:2485226:Event:2271891
DTSTAMP:20260421T221212Z
SUMMARY:Voyage Sonore MD (Concert-Soin Méditatif) avec Yann Coré
DESCRIPTION:Les voyages sonores MD* agissent sur la multi-dimensionnal
 ité de l'être, du niveau physique au niveau causal, à partir de la 
 puissance de l'intention, et à travers le son.\n*L'être s'exprime à
  travers plusieurs dimensions principales: physique, émotionnelle, me
 ntale et spirituel. Et le son à travers ses vibrations, entre en rés
 onance avec chacune de ces dimensions, des plus denses aux plus subtil
 es.\nIl vous sera proposé de poser une (ou plusieurs) intention de tr
 avail, que chacun explorera intérieurement, tout le long du concert.\
 nCes \"Concert-Soins\" sont un espace de détente, de guérison et de 
 paix. Un moment d'intimité, d'infinité, d'unité avec soi même.\nVo
 us êtes invités à venir vivre un voyage musical hors du temps à tr
 avers des sonorités harmoniques et multicolores.\nLes morceaux sont t
 otalement improvisés et joués en conscience, à partir de l’espace
  du cœur.\nLes instruments utilisés ont été choisis pour leurs ver
 tus harmonisantes et leur capacités à favoriser les EMC (états modi
 fiés de consciences).\nL'invitation dans ces Concerts-Soins méditati
 f est de fermer les yeux (ou pas), d'écouter, de ressentir et de se l
 aisser guider par la magie des sons.\nInstruments utilisés : Cosmicbo
 w (un nouvel instrument de la famille des arcs en bouches), Kora, Moug
 ongo (arc en bouche traditionnel Pygmée), Tambours amérindiens, bol 
 de cristal et bols tibétains, Gongs, Guimbarde, Carillons, Shruti Box
 , bâton de pluie, Tambour géant, Flûte harmonique, et bien sûr la 
 Voix.\nParticipation pour le Voyage:\nTarif: 20 euros.\nCapacité de l
 a salle limitée, pour pouvoir assister au Concert, merci de vous insc
 rire:\nInfos et inscriptions :  04 76 21 19 89 / 06 64 09 59 92 franc
 oise.colinet@wanadoo.fr\n\nP.S.: Nous vous serions reconnaissant de pa
 rtager l'information avec vos amis et dans vos réseaux... :)\nBienven
 ue a tous!\n\nAccompagnement individuel sur Grenoble les 17, 20 et 21 
 Avril: Rêves éveillés, massages intuitifs MD, soins énergétiques,
  Reconnexion MD, Coaching holistique,...\nYANN : WWW.CONSCIENCEDUCOEUR
 .COM\n\n\nPour plus d'information, aller sur https://epanews.fr/events
 /voyage-sonore-md-concert-soin-m-ditatif-avec-yann-cor-1
DTSTART;TZID=Europe/Paris:20150417T193000
DTEND;TZID=Europe/Paris:20150417T213000
CATEGORIES:38
LOCATION:à L’Atelier du Mieux-Être (à 15 mn de Grenoble)
WEBSITE:http://www.conscienceducoeur.com
URL:http://www.conscienceducoeur.com
CONTACT:04 76 21 19 89 / 06 64 09 59 92
ORGANIZER;CN="Conscience du Coeur":https://epanews.fr/profile/Conscien
 ceduCoeur
ATTACH;FMTTYPE="image/jpeg":http://storage.ning.com/topology/rest/1.0/
 file/get/1663324820?profile=original
ATTENDEE;ROLE=REQ-PARTICIPANT;PARTSTAT=ACCEPTED;RSVP=TRUE;CN="Conscien
 ce du Coeur":https://epanews.fr/profile/ConscienceduCoeur
END:VEVENT
END:VCALENDAR
