BEGIN:VCALENDAR
PRODID:NingEventWidget-v1
VERSION:2.0
METHOD:PUBLISH
BEGIN:VTIMEZONE
TZID:Europe/Paris
X-LIC-LOCATION:Europe/Paris
BEGIN:DAYLIGHT
TZOFFSETFROM:+0100
TZOFFSETTO:+0200
TZNAME:CEST
DTSTART:19700329T020000
RRULE:FREQ=YEARLY;BYMONTH=3;BYDAY=-1SU
END:DAYLIGHT
BEGIN:STANDARD
TZOFFSETFROM:+0200
TZOFFSETTO:+0100
TZNAME:CET
DTSTART:19701025T030000
RRULE:FREQ=YEARLY;BYMONTH=10;BYDAY=-1SU
END:STANDARD
END:VTIMEZONE
BEGIN:VEVENT
UID:2485226:Event:2085734
DTSTAMP:20260423T054331Z
SUMMARY:Voyage sonore avec Yann Coré et Awen
DESCRIPTION:Les voyages sonores MD* agissent sur la multi-dimensionnal
 ité de l'être, du niveau physique au niveau causal, à partir de la 
 puissance de l'intention, et à travers le son.\n*L'être s'exprime à
  travers plusieurs dimensions principales: physique, émotionnelle, me
 ntale et spirituel. Et le son à travers ses vibrations, entre en rés
 onance avec chacune de ces dimensions, des plus denses aux plus subtil
 es.\nIl vous sera proposé de poser une (ou plusieurs) intention de tr
 avail, que chacun explorera intérieurement, tout le long du concert.\
 nCes \"Concert-Soins\" sont un espace de détente, de guérison et de 
 paix. Un moment d'intimité, d'infinité, d'unité avec soi même.\nVo
 us êtes invités à venir vivre un voyage musical hors du temps à tr
 avers des sonorités harmoniques et multicolores.\nLes morceaux sont t
 otalement improvisés et joués en conscience, à partir de l’espace
  du cœur.\nLes instruments utilisés ont été choisis pour leurs ver
 tus harmonisantes et leur capacités à favoriser les EMC (états modi
 fiés de consciences).\nL'invitation dans ces Concerts-Soins méditati
 f est de fermer les yeux (ou pas), d'écouter, de ressentir et de se l
 aisser guider par la magie des sons.\nInstruments utilisés : Cosmicbo
 w (un nouvel instrument de la famille des arcs en bouches), Kora, Moug
 ongo (arc en bouche traditionnel Pygmée), Tambours amérindiens, bol 
 de cristal et bols tibétains, Gongs, Guimbarde, Carillons, Shruti Box
 , bâton de pluie, Océan Drum, Tambour géant, Flûte harmonique, et 
 bien sûr la Voix.\nParticipation pour le Voyage de guérison:\nTarif 
 découverte: 15 euros.\nCapacité de la salle limitée, pour pouvoir a
 ssister au Concert, merci de vous inscrire:\nInfos et inscriptions : Y
 ann au 06 24 34 44 24\nconscienceducoeur999@gmail.com\nPour confirmer 
 votre inscription, merci d'envoyer un mail ou un sms en indiquant le n
 ombre de personnes à inscrire. Merci! :)\nP.S.: Nous vous serions rec
 onnaissant de partager l'information avec vos amis et dans vos réseau
 x... :)\nBienvenue a tous!\n\nAccompagnement individuel sur Paris et T
 oulouse:\nYANN : WWW.CONSCIENCEDUCOEUR.COM\nAWEN: WWW.SPIRALEDESENS.FR
 \n\nPour plus d'information, aller sur https://epanews.fr/events/voyag
 e-sonore-avec-yann-cor-et-awen
DTSTART;TZID=Europe/Paris:20141123T200000
DTEND;TZID=Europe/Paris:20141123T220000
CATEGORIES:75
LOCATION:à Paris, à l'Espace DIVYAN
WEBSITE:http://www.conscienceducoeur.com
URL:http://www.conscienceducoeur.com
CONTACT:06 24 34 44 24
ORGANIZER;CN="Conscience du Coeur":https://epanews.fr/profile/Conscien
 ceduCoeur
ATTACH;FMTTYPE="image/jpeg":http://storage.ning.com/topology/rest/1.0/
 file/get/1663231002?profile=original
ATTENDEE;ROLE=REQ-PARTICIPANT;PARTSTAT=ACCEPTED;RSVP=TRUE;CN="Conscien
 ce du Coeur":https://epanews.fr/profile/ConscienceduCoeur
END:VEVENT
END:VCALENDAR
