BEGIN:VCALENDAR
PRODID:NingEventWidget-v1
VERSION:2.0
METHOD:PUBLISH
BEGIN:VTIMEZONE
TZID:Europe/Paris
X-LIC-LOCATION:Europe/Paris
BEGIN:DAYLIGHT
TZOFFSETFROM:+0100
TZOFFSETTO:+0200
TZNAME:CEST
DTSTART:19700329T020000
RRULE:FREQ=YEARLY;BYMONTH=3;BYDAY=-1SU
END:DAYLIGHT
BEGIN:STANDARD
TZOFFSETFROM:+0200
TZOFFSETTO:+0100
TZNAME:CET
DTSTART:19701025T030000
RRULE:FREQ=YEARLY;BYMONTH=10;BYDAY=-1SU
END:STANDARD
END:VTIMEZONE
BEGIN:VEVENT
UID:2485226:Event:2786959
DTSTAMP:20260421T014240Z
SUMMARY:Voyage à la rencontre de Sa Déesse Sauvage
DESCRIPTION:Le Sauvage qui m'appelle tant.... cette force qui me fait 
 danser pieds nus dans l'herbe, ressentir la force de Gaïa, la force d
 u Cosmos, faire qu'UNe avec l'Energie, vivre ce reSourcement en pleine
  conscience...  Sentir dans mon corps, mon ventre, mes cellules la pui
 ssance du monde, des mondes, être l'infiniment petit dans l'infinimen
 t grand.... Honorer mon corps pour avoir accepter de m'accompagner sur
  mon chemin, pour être le messager de ma Lumière, de porter le poids
  des mémoires ancestrales, familiale, des femmes, des hommes, de la s
 ociété et de me montrer ainsi comment guérir, transcender, aimer ce
 s mémoires...  Ma Déesse Sauvage Intérieure qui me fait découvrir 
 sa puissance dans mon Espace Sacré du Coeur... Danser, Chanter, Rire,
  Légèreté dans les moments crucial de chaque seconde de ma Vie.... 
  Mon sauvage qui me soutient, me guide, me protège, m'aime.... Que mo
 n Chant vibre avec l'UNivers, se reconnecte avec le Chant de Gaïa, le
  Chant du Cosmos, le Chant des Hommes.... jouons ensemble l'Harmonique
  Terrienne... Dansons Ensemble Notre Force Sauvage...Montrons nos Dée
 sses et Dieu Sauvages et Soyons pleinement des Êtres de Lumière.... 
  Qu'une douce pluie porté par le vent arrose votre terre et avive vot
 re Feu Intérieur... que l'harmonie des éléments vous amène vers pl
 us de Lumière. J'accueille la beauté qui m'entoure, Je m'ouvre à l'
 Amour qui m'est donné, Je libère mon Amour....  C'est à travers un 
 voyage chamanique que je vous amène à rencontrer votre propre Déess
 e. De ce voyage, vous rapporterez l'esSence de votre Divinité que vou
 s insufflerez dans votre poupée Déesse.\nCréation de votre poupée 
 Déesse, matériel fourni\n Tarif : 40 € Réservation obligatoire pa
 r mail : esperanceartisandelumiere@gmail.com\n\nPour plus d'informatio
 n, aller sur https://epanews.fr/events/voyage-la-rencontre-de-sa-d-ess
 e-sauvage
DTSTART;TZID=Europe/Paris:20170211T150000
DTEND;TZID=Europe/Paris:20170211T170000
CATEGORIES:92
LOCATION:rue Jean Jaurès à Levallois Perret (92)
WEBSITE:http://esperanceartisandelumiere.blogspot.com
URL:http://esperanceartisandelumiere.blogspot.com
CONTACT:
ORGANIZER;CN="Nadège Emané Enaya F. Marchak":https://epanews.fr/prof
 ile/AnoumaEsperance
ATTACH;FMTTYPE="image/jpeg":http://storage.ning.com/topology/rest/1.0/
 file/get/1663643165?profile=original
ATTENDEE;ROLE=REQ-PARTICIPANT;PARTSTAT=ACCEPTED;RSVP=TRUE;CN="Nadège 
 Emané Enaya F. Marchak":https://epanews.fr/profile/AnoumaEsperance
END:VEVENT
END:VCALENDAR
