BEGIN:VCALENDAR
PRODID:NingEventWidget-v1
VERSION:2.0
METHOD:PUBLISH
BEGIN:VTIMEZONE
TZID:Europe/Paris
X-LIC-LOCATION:Europe/Paris
BEGIN:DAYLIGHT
TZOFFSETFROM:+0100
TZOFFSETTO:+0200
TZNAME:CEST
DTSTART:19700329T020000
RRULE:FREQ=YEARLY;BYMONTH=3;BYDAY=-1SU
END:DAYLIGHT
BEGIN:STANDARD
TZOFFSETFROM:+0200
TZOFFSETTO:+0100
TZNAME:CET
DTSTART:19701025T030000
RRULE:FREQ=YEARLY;BYMONTH=10;BYDAY=-1SU
END:STANDARD
END:VTIMEZONE
BEGIN:VEVENT
UID:2485226:Event:536809
DTSTAMP:20260422T205257Z
SUMMARY:Voyage à la découverte du bien-être
DESCRIPTION: Stage  \"﻿Voyage à la découverte du bien-être\"\nE
 scale de Danse Intuitive: où l'important n'est pas comment je danse, 
 c'est ce que j'éprouve quand je danse\nEscale Chant, Rythme, Méditat
 ion musicale: oser libérer savoix, apprendre à l'aimer\nEscale Massa
 ge bien-être: apprendre à se soulager et à soulager ses proches\n15
 0 euros les 2 jours avec 5 intervenants\n\nPour plus d'information, al
 ler sur https://epanews.fr/events/voyage-la-d-couverte-du-bien-tre
DTSTART;TZID=Europe/Paris:20111105T000000
DTEND;TZID=Europe/Paris:20111106T235900
CATEGORIES:47
LOCATION:PENNE D'AGENAIS
WEBSITE:
URL:
CONTACT:05 53 70 96 08 ou 06 22 06 55 68
ORGANIZER:Monique Guyot
ATTACH;FMTTYPE="image/jpeg":
ATTENDEE;ROLE=REQ-PARTICIPANT;PARTSTAT=ACCEPTED;RSVP=TRUE;CN="Catherin
 e VEZIER - LATASTE":https://epanews.fr/profile/CatherineVEZIERLATASTE
END:VEVENT
END:VCALENDAR
