BEGIN:VCALENDAR
PRODID:NingEventWidget-v1
VERSION:2.0
METHOD:PUBLISH
BEGIN:VTIMEZONE
TZID:Europe/Paris
X-LIC-LOCATION:Europe/Paris
BEGIN:DAYLIGHT
TZOFFSETFROM:+0100
TZOFFSETTO:+0200
TZNAME:CEST
DTSTART:19700329T020000
RRULE:FREQ=YEARLY;BYMONTH=3;BYDAY=-1SU
END:DAYLIGHT
BEGIN:STANDARD
TZOFFSETFROM:+0200
TZOFFSETTO:+0100
TZNAME:CET
DTSTART:19701025T030000
RRULE:FREQ=YEARLY;BYMONTH=10;BYDAY=-1SU
END:STANDARD
END:VTIMEZONE
BEGIN:VEVENT
UID:2485226:Event:1584918
DTSTAMP:20260421T161255Z
SUMMARY:Voyage intérieur éveillé
DESCRIPTION:Journée de Voyage Intérieur éveillé, dimanche 1er déc
 embre\n\nIl s’agit d’une journée consacrée à Soi et son espace 
 intérieur, pour se poser et contacter son intuition afin de retrouver
  son chemin de réalisation personnelle.\n\nDans un cadre convivial et
  bienveillant, différents exercices seront proposés : Relaxation, m
 éditation et créativité seront utilisés afin de plonger dans son u
 nivers intérieur et d’identifier ce qui permet de  déployer ses p
 ropres potentiels.\nLe but est de clarifier ses projets de vie et de p
 oser un autre regard sur son propre parcours.\n\nTarif: 65€ la journ
 ée\n(adhésion à l’association Odyssée Créative de 15€)\n\nSit
 e Internet : http://www.odysseecreative.fr/\n\nHoraire: 10h-18h avec 
 repas du midi tiré du sac à partager.\n\nInscription préalable: app
 eler Alexandra au 06 65 42 31 70\n\n\n\nPour plus d'information, aller
  sur https://epanews.fr/events/voyage-int-rieur-veill-1
DTSTART;TZID=Europe/Paris:20131201T000000
DTEND;TZID=Europe/Paris:20131201T235900
CATEGORIES:13
LOCATION:Châteaurenard
WEBSITE:http://odysseecreative.fr
URL:http://odysseecreative.fr
CONTACT:0665423170
ORGANIZER;CN="Alexandra Merer":https://epanews.fr/profile/AlexandraMer
 er
ATTACH;FMTTYPE="image/jpeg":http://storage.ning.com/topology/rest/1.0/
 file/get/1662950170?profile=original
ATTENDEE;ROLE=REQ-PARTICIPANT;PARTSTAT=ACCEPTED;RSVP=TRUE;CN=Nabila:ht
 tps://epanews.fr/profile/Nabila
ATTENDEE;ROLE=REQ-PARTICIPANT;PARTSTAT=ACCEPTED;RSVP=TRUE;CN="Alexandr
 a Merer":https://epanews.fr/profile/AlexandraMerer
END:VEVENT
END:VCALENDAR
