BEGIN:VCALENDAR
PRODID:NingEventWidget-v1
VERSION:2.0
METHOD:PUBLISH
BEGIN:VTIMEZONE
TZID:Europe/Paris
X-LIC-LOCATION:Europe/Paris
BEGIN:DAYLIGHT
TZOFFSETFROM:+0100
TZOFFSETTO:+0200
TZNAME:CEST
DTSTART:19700329T020000
RRULE:FREQ=YEARLY;BYMONTH=3;BYDAY=-1SU
END:DAYLIGHT
BEGIN:STANDARD
TZOFFSETFROM:+0200
TZOFFSETTO:+0100
TZNAME:CET
DTSTART:19701025T030000
RRULE:FREQ=YEARLY;BYMONTH=10;BYDAY=-1SU
END:STANDARD
END:VTIMEZONE
BEGIN:VEVENT
UID:2485226:Event:2654147
DTSTAMP:20260421T134401Z
SUMMARY:Voyage initiatique Israël
DESCRIPTION:Je vous amène en Israel pour un voyage initiatique, avec 
 une marche dans le désert du Neguev avant d'aller découvrir les site
 s sacrés à Jérusalem, Bethleem, Qumran, Lac de Tibériade, Mont Tha
 bor, Safed, Béthanie, Mont des béatitudes, Mer Morte, ... Du mercre
 di 9 au vendredi 18 novembre 2016\nRecevoir le programme : danseparlem
 arche.lo@outlook.comDate limite d'inscription 20 juin 2016\n\nPour plu
 s d'information, aller sur https://epanews.fr/events/voyage-initiatiqu
 e-isra-l
DTSTART;TZID=Europe/Paris:20160601T180000
DTEND;TZID=Europe/Paris:20160608T230000
CATEGORIES:33
LOCATION:israël
WEBSITE:http://danseparlemarche.com/agenda/62-voyage-initiatique
URL:http://danseparlemarche.com/agenda/62-voyage-initiatique
CONTACT:
ORGANIZER;CN="Carole Aliya":https://epanews.fr/profile/carolealiyafree
 fr
ATTACH;FMTTYPE="image/jpeg":http://storage.ning.com/topology/rest/1.0/
 file/get/1663570276?profile=original
ATTENDEE;ROLE=REQ-PARTICIPANT;PARTSTAT=ACCEPTED;RSVP=TRUE;CN="Carole A
 liya":https://epanews.fr/profile/carolealiyafreefr
END:VEVENT
END:VCALENDAR
