BEGIN:VCALENDAR
PRODID:NingEventWidget-v1
VERSION:2.0
METHOD:PUBLISH
BEGIN:VTIMEZONE
TZID:Europe/Paris
X-LIC-LOCATION:Europe/Paris
BEGIN:DAYLIGHT
TZOFFSETFROM:+0100
TZOFFSETTO:+0200
TZNAME:CEST
DTSTART:19700329T020000
RRULE:FREQ=YEARLY;BYMONTH=3;BYDAY=-1SU
END:DAYLIGHT
BEGIN:STANDARD
TZOFFSETFROM:+0200
TZOFFSETTO:+0100
TZNAME:CET
DTSTART:19701025T030000
RRULE:FREQ=YEARLY;BYMONTH=10;BYDAY=-1SU
END:STANDARD
END:VTIMEZONE
BEGIN:VEVENT
UID:2485226:Event:719740
DTSTAMP:20260422T040630Z
SUMMARY:Voyage Initiatique:\"BrocÃ©liande,Terre de LÃ©gendes\"
DESCRIPTION:Â Je vous invite Ã  dÃ©couvrir cette forÃªt ancestrale et 
 mythique qui ne cesse depuis des siÃ¨cles de stimuler l'imagination de
 s hommes....\nArthur, GueniÃ¨vre, Lancelot, Viviane et Morgane, Merlin
 ....\nLa LÃ©gende Arthurienne, tradition de mystÃ¨res est un chemin de
  rÃ©alisation Ã  travers les archÃ©types celtiques.Â Â Â Â Â Â Â Â Â Â
  Â Â Â Â Â Â Â Â Â Â Â Â Â Â Â Â Â Â Â Â Â Â Â Â Â Â Â Â Â Â Â Â Â Â Â
  Â Â Â Â Â Â Â Â Â Â Â Â Â Â Â Â Â Â \nForce-guide au sein des vieux c
 ercles de pierres, nous Ã©couterons ses messages pour aller un peu plu
 s loin au cÅ“ur de nous-mÃªmes.\nTombeau de Merlin, Val sans Retour ,M
 iroir aux FÃ©es, Fontaine de Jouvence, HÃªtre du Voyageur....\nNous ir
 ons mÃ©diter prÃ©s des Grands Sages: hÃªtres et chÃªnes sÃ©culaires, c
 ommunier avec dame nature et les FÃ©es de la lande, inspiratrices et i
 nitiatrices.\nNous partirons Ã  la dÃ©couverte de hauts lieux vibratoi
 res comme autant de chevaliers en QuÃªte du Graal.\nFÃ©minin-Masculin 
 retrouvÃ©s: la Coupe et lâ€™Ã‰pÃ©e Ã  nouveau rÃ©unifiÃ©s et complices
  pour prendre place autour de la Table Ronde Cosmique.\nÂ Â Â Â Â Â Â 
 Â Â Â Â Â Â Â Â Â Â Â Â Â Â Â Â Â Â Â Â \nPour plus d'info:http://www.
 nadinepenna.com\n\n\nÂ Â Â Â Â Â Â Â Â Â Â Â Â Â Â Â Â Â Â Â Â Â Â Â Â
  Â Â Â Â Â Â Â Â Â Â Â Â Â Â Â Â Â Â Â Â Â Â Â \n\n\n\n\nPour plus d'i
 nformation, aller sur https://epanews.fr/events/voyage-initiatique-bro
 c-liande-terre-de-l-gendes
DTSTART;TZID=Europe/Paris:20120708T190000
DTEND;TZID=Europe/Paris:20120713T100000
CATEGORIES:35
LOCATION:ForÃªt de BrocÃ©liande -Bretagne
WEBSITE:http://www.nadinepenna.com
URL:http://www.nadinepenna.com
CONTACT:06 74 83 42 51
ORGANIZER;CN="Penna Nadine-Sarah":https://epanews.fr/profile/PennaNadi
 ne
ATTACH;FMTTYPE="image/jpeg":http://storage.ning.com/topology/rest/1.0/
 file/get/1662570559?profile=original
ATTENDEE;ROLE=REQ-PARTICIPANT;PARTSTAT=ACCEPTED;RSVP=TRUE;CN="Penna Na
 dine-Sarah":https://epanews.fr/profile/PennaNadine
END:VEVENT
END:VCALENDAR
