BEGIN:VCALENDAR
PRODID:NingEventWidget-v1
VERSION:2.0
METHOD:PUBLISH
BEGIN:VTIMEZONE
TZID:Europe/Paris
X-LIC-LOCATION:Europe/Paris
BEGIN:DAYLIGHT
TZOFFSETFROM:+0100
TZOFFSETTO:+0200
TZNAME:CEST
DTSTART:19700329T020000
RRULE:FREQ=YEARLY;BYMONTH=3;BYDAY=-1SU
END:DAYLIGHT
BEGIN:STANDARD
TZOFFSETFROM:+0200
TZOFFSETTO:+0100
TZNAME:CET
DTSTART:19701025T030000
RRULE:FREQ=YEARLY;BYMONTH=10;BYDAY=-1SU
END:STANDARD
END:VTIMEZONE
BEGIN:VEVENT
UID:2485226:Event:2248458
DTSTAMP:20260419T224550Z
SUMMARY:Voyage en Pays Cathare
DESCRIPTION:Gnose Cathare Pratique des grottes initiatiques  4 jours a
 vec Toni Ceron & Max Laforges  Réservation de l'hébergement jusqu'au
  31 mars 2015   Gnose de groupe et Gnose individuelle selon le parcour
 s des grottes d’initiation cathare à Ussat Parcours Fréquence par 
 Fréquence dans les Trois grottes (des Églises, de l’Hermite, de Be
 thléem) après être passé par la grotte de Fontanet, lieu du vrai d
 épart qui est la cohésion alchimique première. Gnose de groupe sept
 uple en la grotte de Lombrives Aspects pratiques\n\nPour plus d'inform
 ation, aller sur https://epanews.fr/events/voyage-en-pays-cathare
DTSTART;TZID=Europe/Paris:20150514T000000
DTEND;TZID=Europe/Paris:20150517T235900
CATEGORIES:09
LOCATION:Ussat-les-Bains
WEBSITE:http://www.spagytherapie.com/seminaires.php
URL:http://www.spagytherapie.com/seminaires.php
CONTACT:0450739331
ORGANIZER;CN="Lydie Spagythérapie":https://epanews.fr/profile/LydieSp
 agytherapie
ATTACH;FMTTYPE="image/jpeg":
ATTENDEE;ROLE=REQ-PARTICIPANT;PARTSTAT=ACCEPTED;RSVP=TRUE;CN="Lydie Sp
 agythérapie":https://epanews.fr/profile/LydieSpagytherapie
END:VEVENT
END:VCALENDAR
