BEGIN:VCALENDAR
PRODID:NingEventWidget-v1
VERSION:2.0
METHOD:PUBLISH
BEGIN:VTIMEZONE
TZID:Europe/Paris
X-LIC-LOCATION:Europe/Paris
BEGIN:DAYLIGHT
TZOFFSETFROM:+0100
TZOFFSETTO:+0200
TZNAME:CEST
DTSTART:19700329T020000
RRULE:FREQ=YEARLY;BYMONTH=3;BYDAY=-1SU
END:DAYLIGHT
BEGIN:STANDARD
TZOFFSETFROM:+0200
TZOFFSETTO:+0100
TZNAME:CET
DTSTART:19701025T030000
RRULE:FREQ=YEARLY;BYMONTH=10;BYDAY=-1SU
END:STANDARD
END:VTIMEZONE
BEGIN:VEVENT
UID:2485226:Event:2019174
DTSTAMP:20260425T025125Z
SUMMARY:Voyage en Inde
DESCRIPTION:Nous vous proposons des voyage de bien-être, où vous pou
 rrez pratiquer les activités traditionnelles du pays.\nL'Inde transfo
 rme notre vision de la vie. Voyager dans ce pays, permet de restruc
 turer nos à prioris et nos automatismes de pensé\nA travers la médi
 tation, le yoga, le massage ayurvédique ou encore la danse, venez vou
 s retrouver en Inde!\n\n\n\n\nPour plus d'information, aller sur https
 ://epanews.fr/events/voyage-en-inde
DTSTART;TZID=Europe/Paris:20150106T000000
DTEND;TZID=Europe/Paris:20150113T235900
CATEGORIES:tous
LOCATION:Inde
WEBSITE:http://www.decouvertedelinde.com/
URL:http://www.decouvertedelinde.com/
CONTACT:0626284948
ORGANIZER;CN=geoffrey:https://epanews.fr/profile/geoffrey
ATTACH;FMTTYPE="image/jpeg":
ATTENDEE;ROLE=REQ-PARTICIPANT;PARTSTAT=ACCEPTED;RSVP=TRUE;CN=geoffrey:
 https://epanews.fr/profile/geoffrey
END:VEVENT
END:VCALENDAR
