BEGIN:VCALENDAR
PRODID:NingEventWidget-v1
VERSION:2.0
METHOD:PUBLISH
BEGIN:VTIMEZONE
TZID:Europe/Paris
X-LIC-LOCATION:Europe/Paris
BEGIN:DAYLIGHT
TZOFFSETFROM:+0100
TZOFFSETTO:+0200
TZNAME:CEST
DTSTART:19700329T020000
RRULE:FREQ=YEARLY;BYMONTH=3;BYDAY=-1SU
END:DAYLIGHT
BEGIN:STANDARD
TZOFFSETFROM:+0200
TZOFFSETTO:+0100
TZNAME:CET
DTSTART:19701025T030000
RRULE:FREQ=YEARLY;BYMONTH=10;BYDAY=-1SU
END:STANDARD
END:VTIMEZONE
BEGIN:VEVENT
UID:2485226:Event:1407175
DTSTAMP:20260421T171402Z
SUMMARY:Voyage chamanique au son du tambour
DESCRIPTION:\"Le tambour est le battement de cœur de la terre mère. 
 Le tambour est le battement de cœur de notre mère. Et le tambour est
  sacré. Chaque fois que vous venez et écoutez notre peuple battre le
  tambour, chanter et interpréter nos chants spirituels, vous pouvez 
 tre touché profondément. Il se peut que vous ne sachiez pas ce qui 
 vous a touché. Cela peut être le son du tambour, parce que vous vive
 z sur cette terre et la terre est votre mère et elle vous parle. Vous
  avez besoin de l'écouter. Vous avez besoin de comprendre que tout es
 t connecté à vous et que vous êtes connecté à tout. Tous les arbr
 es sont des personnes. Toutes les pierres sont des personnes.”\nBeav
 er Chief (chef spirituel des indiens Lummi)\n \n \n  L’écoute d
 e la vibration du chant du tambour ouvre les portes d'une réalité no
 n-ordinaire, où s'entremêlent les mondes du physique et du spirituel
 .\nLe voyage chamanique dans les mondes d'En-Haut, d'En-Bas et du Mili
 eu peut permettre de rencontrer nos guides et animaux totem. Ceux-ci n
 ous conseillent et nous enseignent la guérison et la sagesse.\n \n 
  Nous vous invitons à explorer vos mondes intérieurs, en conscience
 . Dans l'ouverture du cœur, nous vous accompagnons pour avancer sur v
 otre chemin de vie, centré, aligné et enraciné.\nflyer%20Voyages%20
 chamaniques%2B%2B%2B.pdf\n\nPour plus d'information, aller sur https:/
 /epanews.fr/events/voyage-chamanique-au-son-du-tambour
DTSTART;TZID=Europe/Paris:20130613T200000
DTEND;TZID=Europe/Paris:20130613T230000
CATEGORIES:34
LOCATION:Montpellier
WEBSITE:
URL:
CONTACT:Renseignements et inscription préalable auprès de Jessica 06
 .12.04.02.03
ORGANIZER;CN="DARBORD Catherine":https://epanews.fr/profile/DARBORDCat
 herine
ATTACH;FMTTYPE="image/jpeg":http://storage.ning.com/topology/rest/1.0/
 file/get/1662864593?profile=original
ATTENDEE;ROLE=REQ-PARTICIPANT;PARTSTAT=ACCEPTED;RSVP=TRUE;CN="DARBORD 
 Catherine":https://epanews.fr/profile/DARBORDCatherine
END:VEVENT
END:VCALENDAR
