BEGIN:VCALENDAR
PRODID:NingEventWidget-v1
VERSION:2.0
METHOD:PUBLISH
BEGIN:VTIMEZONE
TZID:Europe/Paris
X-LIC-LOCATION:Europe/Paris
BEGIN:DAYLIGHT
TZOFFSETFROM:+0100
TZOFFSETTO:+0200
TZNAME:CEST
DTSTART:19700329T020000
RRULE:FREQ=YEARLY;BYMONTH=3;BYDAY=-1SU
END:DAYLIGHT
BEGIN:STANDARD
TZOFFSETFROM:+0200
TZOFFSETTO:+0100
TZNAME:CET
DTSTART:19701025T030000
RRULE:FREQ=YEARLY;BYMONTH=10;BYDAY=-1SU
END:STANDARD
END:VTIMEZONE
BEGIN:VEVENT
UID:2485226:Event:429300
DTSTAMP:20260423T054556Z
SUMMARY:voyage chamanique(3)20 novembre
DESCRIPTION:voyage chamanique (3)20 Novembre 2011\nSoins et guÃ©rison 
 chamaniques\n\nDans les traditions chamaniques, la maladie est toujour
 s considÃ©rÃ©e comme un dÃ©sÃ©quilibre, un dÃ©sordre, une dysharmonie,
  non seulement Ã  lâ€™intÃ©rieur du corps du malade, mais Ã©galement d
 ans sa vie, sa communautÃ©, son rapport aux dimensions spirituelles.\n
 De mÃªme que lâ€™individu nâ€™est pas considÃ©rÃ© existant indÃ©pendam
 ment du reste du monde, la maladie nâ€™est pas considÃ©rÃ©e comme un p
 rocessus indÃ©pendant de toutes les circonstances de vie du patient.\n
 Elle nâ€™a pas de cause et de dÃ©roulement prÃ©-dÃ©finis, ni de mode d
 e soins prÃ©-dÃ©finis. Elle nâ€™a aucune existence en dehors des circo
 nstances oÃ¹ elle apparaÃ®t.\nLes soins Ã  donner sont suggÃ©rÃ©s par 
 les esprits, Â et font intervenir des rituels Â«collectifsÂ», auxquels
  peuvent Ãªtre associÃ©s des prises de remÃ¨des tels que des mÃ©langes
  de plantes, voire des efforts demandÃ©s au patient ou Ã  sa famille (
 dons, Ã©preuves, etc.).\nQuel que soit le savoir des chamanes en matiÃ
 ¨re de plantes, câ€™est avant tout lâ€™Ã©quilibre qui doit Ãªtre rÃ©ta
 bli Ã  un niveau bien plus large que physique, et toujours en accord a
 vec le monde spirituel.\nMalgrÃ© cela, il nâ€™est pas toujours nÃ©cess
 aire de comprendre les causes exactes des problÃ¨mes, il suffit dâ€™ap
 pliquer soigneusement les conseils des esprits et de rÃ©unir les priÃ¨
 res et intentions du chamane, de la famille du malade, Â et de la comm
 unautÃ©.Â \nÂ \nPour renseignements et inscription :clo 04 94 67 58 47
  ou 06 29 34 22 67\nÂ \n\nPour plus d'information, aller sur https://e
 panews.fr/events/voyage-chamanique-3-20
DTSTART;TZID=Europe/Paris:20111120T000000
DTEND;TZID=Europe/Paris:20111120T235900
CATEGORIES:83
LOCATION:lorgues
WEBSITE:
URL:
CONTACT:06 29 34 22 67
ORGANIZER;CN="Assoc.le Jardin des Oliviers":https://epanews.fr/profile
 /AssocLeJardindesOliviers
ATTACH;FMTTYPE="image/jpeg":
ATTENDEE;ROLE=REQ-PARTICIPANT;PARTSTAT=ACCEPTED;RSVP=TRUE;CN="Assoc.le
  Jardin des Oliviers":https://epanews.fr/profile/AssocLeJardindesOlivi
 ers
ATTENDEE;ROLE=REQ-PARTICIPANT;PARTSTAT=TENTATIVE;RSVP=TRUE;CN=chloÃ©:h
 ttps://epanews.fr/profile/chloe
END:VEVENT
END:VCALENDAR
