BEGIN:VCALENDAR
PRODID:NingEventWidget-v1
VERSION:2.0
METHOD:PUBLISH
BEGIN:VTIMEZONE
TZID:Europe/Paris
X-LIC-LOCATION:Europe/Paris
BEGIN:DAYLIGHT
TZOFFSETFROM:+0100
TZOFFSETTO:+0200
TZNAME:CEST
DTSTART:19700329T020000
RRULE:FREQ=YEARLY;BYMONTH=3;BYDAY=-1SU
END:DAYLIGHT
BEGIN:STANDARD
TZOFFSETFROM:+0200
TZOFFSETTO:+0100
TZNAME:CET
DTSTART:19701025T030000
RRULE:FREQ=YEARLY;BYMONTH=10;BYDAY=-1SU
END:STANDARD
END:VTIMEZONE
BEGIN:VEVENT
UID:2485226:Event:1860786
DTSTAMP:20260421T165200Z
SUMMARY:Voyage au coeur de l'Etre !
DESCRIPTION:VOYAGE au CŒUR de l’ETRE !\nDimanche 27 avril 2014  \
 nAccueil des 8h 30. Stage de 9H – 17H 30\nVous repartirez avec des C
 LES, une boite à OUTILS  SIMPLES\net PRATIQUES pour améliorer votre
  QUOTIDIEN !\nUne journée de cheminement\nà travers les différente
 s dimensions de l’ETRE :\nMental, Physique, Emotionnel et Spirituel
 \n explorer en douceur  nos ressources grâce à des exercices,\ndes
  mises en situations proposées\net permettre l’EVOLUTION de son ETR
 E vers plus de SANTE !\nForfait  Journée   60 € TTC repas tiré
  du sac\nMaximum 12 personnes\nInscription au préalable au  : 06 81 
 09 15 78\nwww.lamarche-autrement.com\n\nPour plus d'information, aller
  sur https://epanews.fr/events/voyage-au-coeur-de-l-etre
DTSTART;TZID=Europe/Paris:20140427T090000
DTEND;TZID=Europe/Paris:20140427T173000
CATEGORIES:11
LOCATION:Maison du Bien Etre Coursan- Narbonne
WEBSITE:
URL:
CONTACT:06 81 09 15 78 ou 06 09 71 74 50
ORGANIZER;CN="GAUBERT Isabelle":https://epanews.fr/profile/GAUBERTIsab
 elle
ATTACH;FMTTYPE="image/jpeg":http://storage.ning.com/topology/rest/1.0/
 file/get/1663107380?profile=original
ATTENDEE;ROLE=REQ-PARTICIPANT;PARTSTAT=ACCEPTED;RSVP=TRUE;CN="GAUBERT 
 Isabelle":https://epanews.fr/profile/GAUBERTIsabelle
END:VEVENT
END:VCALENDAR
