BEGIN:VCALENDAR
PRODID:NingEventWidget-v1
VERSION:2.0
METHOD:PUBLISH
BEGIN:VTIMEZONE
TZID:Europe/Paris
X-LIC-LOCATION:Europe/Paris
BEGIN:DAYLIGHT
TZOFFSETFROM:+0100
TZOFFSETTO:+0200
TZNAME:CEST
DTSTART:19700329T020000
RRULE:FREQ=YEARLY;BYMONTH=3;BYDAY=-1SU
END:DAYLIGHT
BEGIN:STANDARD
TZOFFSETFROM:+0200
TZOFFSETTO:+0100
TZNAME:CET
DTSTART:19701025T030000
RRULE:FREQ=YEARLY;BYMONTH=10;BYDAY=-1SU
END:STANDARD
END:VTIMEZONE
BEGIN:VEVENT
UID:2485226:Event:901076
DTSTAMP:20260419T154239Z
SUMMARY:Voyage 8 jours avec les Dauphins - Egypte, Lagon Mer Rouge
DESCRIPTION:Voyage en Mer Rouge. la rencontre des Dauphins :\nVideo Re
 laxation Aquatique\nVideo LieuÂ d'AccueilÂ Exceptionnel\nExcursion en 
 bateau privatif a la rencontre des Dauphins... Base dans un magnifique
  Hotel 5*, avec un seminaire/experience de Relaxation Aquatique (assim
 ile au Watsu). Voyage inoubliable ou le reve devient realite... Relaxa
 tion profonde, detente, bien-etre, abandon, bonheur... rencontre avec 
 soi-meme...\nEn DÃ©tail :\nUn Cadre Magique Le lagon de Shaab Sataya e
 n Ã‰gypte... Ce lieu magique est dâ€™une longueur dâ€™environ 5 km et 
 de 2 km de largeur. Cet immense lagon est un lieu oÃ¹ les dauphins vie
 nnent sâ€™abriter, protÃ©gÃ©s du courant par la barriÃ¨re de corail. L
 es Eaux Chaudes de la Mer Rouge regorgent de RÃ©cifs Coralliens Ã‰pous
 touflants, uniques au monde....  La Rencontre avec les DauphinsÂ (Excu
 rsion en Bateau Privatif). Le MaÃ®tre des OcÃ©ans, symbole de joie et 
 de sagesse. Ã€ tous les amoureux de la nature... Vivre une aventure ex
 ceptionnelle. Vous pourrez les approcher de faÃ§on respectueuse et par
 tager des moments inoubliables: â€¢ contemplations attendrissantes des
  mamans avec leurs petits, â€¢ partages de folles cabrioles aquatiques
  avec de jeunes dauphins joueurs, â€¢ observations de comportements af
 fectueux...  Relaxation Aquatique - Crystal Dolphin - DÃ©stress Total,
  Relaxation Profonde, DÃ©tente, Bien-ÃŠtre, Bonheur... Session d'immer
 sion en soi de 2 Ã  3 heures chaque jours. Vous vous allongez dans lâ€
 ™eau chaude, la tÃªte Ã  moitiÃ© immergÃ©e. Vous Ãªtes soutenu Ã  la t
 Ãªte et au bassin, bercÃ© au rythme de votre propre respiration qui se
  calme, devient plus profonde et lente. Un balancement lent et ample p
 longe progressivement votre corps en relaxation totale. Le thÃ©rapeute
  entraÃ®ne son partenaire dans une sorte de valse aquatique au cours d
 e laquelle la colonne vertÃ©brale, le bassin, les membres libÃ¨rent le
 urs tensions et dÃ©couvrent une autre dimension, un espace nouveau... 
  Massage Pour que le RÃªve soi Complet, et l'Abandon au Bien-ÃŠtre soi
 t total... Un massage demi-corps de 20mn toutes les journÃ©es complÃ¨t
 es d'HÃ´tel...Il vous suffit de vous dÃ©tendre... et de recevoir...  P
 longÃ©e sous-marine ExpÃ©rience sub-aquatique dans le Lagon... Initiat
 ion pour les dÃ©butants et grande Ã©chapÃ©e pour les avancÃ©s... l'Ave
 nture est au rendez-vous !\nExcursion dans le DÃ©sert en 4X4 Diner sou
 s la Tente avec les nomades Bedouins... MÃ©ditation au Clair de Lune..
 . Une journÃ©e de clÃ´ture dÃ©diÃ©e aux grands espaces....  Situation 
 &Â Infrastructure:Â voir la videoÂ exceptionnelle ! (Chambres avecÂ Vu
 e Mer Panoramique : toutes !)\nRepas et boissons:Â absolument tout com
 pris.  TarifÂ : 2 080 â‚¬ TTC Ce prix ne comprend pas: Les vols A/R de
  France vers Paris. Les dÃ©pense personnelles. Les pourboires (prÃ©voi
 r une petite \"enveloppe\"). Inscription:Â http://www.crystal-dolphin.
 com/#!inscription-voyages/c1lckÂ \nInformationsÂ auprÃ¨s de Bruno Mart
 inez:\ncontact@crystal-dolphin.com\nwww.crystal-dolphin.com\nSkype: cr
 ystal-dolphin.com\n+33(0)6 84 90 11 04\nOrganisation Voyage:Â Travelâ€
 ™s 7 nÂ° de licenceÂ IM044120005\n\nPour plus d'information, aller sur
  https://epanews.fr/events/voyage-8-jours-avec-les-dauphins-egypte-lag
 on-mer-rouge
DTSTART;TZID=Europe/Paris:20121019T090000
DTEND;TZID=Europe/Paris:20121026T190000
CATEGORIES:Ã©gypte
LOCATION:Egypte, Mer Rouge, Hurgada
WEBSITE:
URL:
CONTACT:
ORGANIZER:Bruno Martinez
ATTACH;FMTTYPE="image/jpeg":http://storage.ning.com/topology/rest/1.0/
 file/get/1662645411?profile=original
ATTENDEE;ROLE=REQ-PARTICIPANT;PARTSTAT=ACCEPTED;RSVP=TRUE;CN=Bruno:htt
 ps://epanews.fr/profile/Bruno587
END:VEVENT
END:VCALENDAR
