BEGIN:VCALENDAR
PRODID:NingEventWidget-v1
VERSION:2.0
METHOD:PUBLISH
BEGIN:VTIMEZONE
TZID:Europe/Paris
X-LIC-LOCATION:Europe/Paris
BEGIN:DAYLIGHT
TZOFFSETFROM:+0100
TZOFFSETTO:+0200
TZNAME:CEST
DTSTART:19700329T020000
RRULE:FREQ=YEARLY;BYMONTH=3;BYDAY=-1SU
END:DAYLIGHT
BEGIN:STANDARD
TZOFFSETFROM:+0200
TZOFFSETTO:+0100
TZNAME:CET
DTSTART:19701025T030000
RRULE:FREQ=YEARLY;BYMONTH=10;BYDAY=-1SU
END:STANDARD
END:VTIMEZONE
BEGIN:VEVENT
UID:2485226:Event:2930598
DTSTAMP:20260425T041717Z
SUMMARY:Vous aimez la poésie ? Bienvenue aux Rencontres Poétiques
DESCRIPTION:Le 2ème et 4ème mercredi de chaque mois se déroule une 
 « Rencontre Poétique » dans le but, joyeux et prometteur, de partag
 er notre inclination, voire notre amour… de la poésie.Le 2ème merc
 redi (Les prochain auront lieu les 14 février et 14 mars à 19h30) se
 ra l’occasion d’évoquer notre (ou nos) poète(s) préféré(s). P
 ourront être partagés nos pourquoi cette (ou ces) préférence(s), e
 t des textes de ces auteurs chers à notre cœur, précieux à notre p
 ensée. Ces textes pouvant être récités, lus ou distribués en phot
 ocopies. Le 4ème mercredi (Les prochains auront lieu les 25 janvier,
  ATTENTION CHANGEMENT DE DATE EXCEPTIONNEL ET C'EST UN JEUDI28 févrie
 r et le 28 mars à 19h30) réunira ceux et celles qui écrivent (un pe
 u, beaucoup, passionnément) de la poésie OU qui aimeraient en écrir
 e. Entre aide joyeuse et ludique seront de la partie. Lieu de rencont
 re : Le Jardin du Graal, 29 rue des trois-Bornes, 75011 Paris Tel : 01
 .43.14.98.91Participation : une boisson du bar bio\n\nPour plus d'info
 rmation, aller sur https://epanews.fr/events/vous-aimez-la-po-sie-bien
 venue-aux-rencontres-po-tiques
DTSTART;TZID=Europe/Paris:20180214T193000
DTEND;TZID=Europe/Paris:20180214T213000
CATEGORIES:75
LOCATION:Le Jardin du Graal, 29 rue des Trois Bornes, Paris 11ème
WEBSITE:http://lejardindugraal.fr/vous-aimez-la-poesie/
URL:http://lejardindugraal.fr/vous-aimez-la-poesie/
CONTACT:0143149891
ORGANIZER;CN="PariSoleil 75011":https://epanews.fr/profile/LeJardinduG
 raalParis
ATTACH;FMTTYPE="image/jpeg":http://storage.ning.com/topology/rest/1.0/
 file/get/1663718615?profile=original
ATTENDEE;ROLE=REQ-PARTICIPANT;PARTSTAT=ACCEPTED;RSVP=TRUE;CN="PariSole
 il 75011":https://epanews.fr/profile/LeJardinduGraalParis
END:VEVENT
END:VCALENDAR
