BEGIN:VCALENDAR
PRODID:NingEventWidget-v1
VERSION:2.0
METHOD:PUBLISH
BEGIN:VTIMEZONE
TZID:Europe/Paris
X-LIC-LOCATION:Europe/Paris
BEGIN:DAYLIGHT
TZOFFSETFROM:+0100
TZOFFSETTO:+0200
TZNAME:CEST
DTSTART:19700329T020000
RRULE:FREQ=YEARLY;BYMONTH=3;BYDAY=-1SU
END:DAYLIGHT
BEGIN:STANDARD
TZOFFSETFROM:+0200
TZOFFSETTO:+0100
TZNAME:CET
DTSTART:19701025T030000
RRULE:FREQ=YEARLY;BYMONTH=10;BYDAY=-1SU
END:STANDARD
END:VTIMEZONE
BEGIN:VEVENT
UID:2485226:Event:2924219
DTSTAMP:20260420T124427Z
SUMMARY:Vous aimez la Poésie ? Bienvenue aux Rencontre Poétique à P
 aris
DESCRIPTION:Le 2ème et 4ème mercredi de chaque mois se déroule une 
 « Rencontre Poétique » dans le but, joyeux et prometteur, de partag
 er notre inclination, voire notre amour… de la poésie.  Le 2ème me
 rcredi (Les prochain auront lieu les 14 février et 14 mars à 19h30) 
 sera l’occasion d’évoquer notre (ou nos) poète(s) préféré(s).
  Pourront être partagés nos pourquoi cette (ou ces) préférence(s),
  et des textes de ces auteurs chers à notre cœur, précieux à notre
  pensée. Ces textes pouvant être récités, lus ou distribués en ph
 otocopies.   Le 4ème mercredi (Les prochains auront lieu les 25 janv
 ier ATTENTION C'EST UN JEUDI, 28 février et le 28 mars à 19h30) réu
 nira ceux et celles qui écrivent (un peu, beaucoup, passionnément) d
 e la poésie OU qui aimeraient en écrire. Entre aide joyeuse et ludiq
 ue seront de la partie.   Lieu de rencontre : Le Jardin du Graal, 29 
 rue des trois-Bornes, 75011 Paris Tel : 01.43.14.98.91  Participation 
 : une boisson du bar bio\n\nPour plus d'information, aller sur https:/
 /epanews.fr/events/vous-aimez-la-po-sie-bienvenue-aux-rencontre-po-tiq
 ue-paris
DTSTART;TZID=Europe/Paris:20180124T193000
DTEND;TZID=Europe/Paris:20180124T210000
CATEGORIES:75
LOCATION:Le Jardin du Graal, 29 rue des Trois Bornes, Paris 11ème
WEBSITE:http://lejardindugraal.fr/vous-aimez-la-poesie/
URL:http://lejardindugraal.fr/vous-aimez-la-poesie/
CONTACT:0143149891
ORGANIZER;CN="PariSoleil 75011":https://epanews.fr/profile/LeJardinduG
 raalParis
ATTACH;FMTTYPE="image/jpeg":http://storage.ning.com/topology/rest/1.0/
 file/get/1663713392?profile=original
ATTENDEE;ROLE=REQ-PARTICIPANT;PARTSTAT=ACCEPTED;RSVP=TRUE;CN="PariSole
 il 75011":https://epanews.fr/profile/LeJardinduGraalParis
END:VEVENT
END:VCALENDAR
