BEGIN:VCALENDAR
PRODID:NingEventWidget-v1
VERSION:2.0
METHOD:PUBLISH
BEGIN:VTIMEZONE
TZID:Europe/Paris
X-LIC-LOCATION:Europe/Paris
BEGIN:DAYLIGHT
TZOFFSETFROM:+0100
TZOFFSETTO:+0200
TZNAME:CEST
DTSTART:19700329T020000
RRULE:FREQ=YEARLY;BYMONTH=3;BYDAY=-1SU
END:DAYLIGHT
BEGIN:STANDARD
TZOFFSETFROM:+0200
TZOFFSETTO:+0100
TZNAME:CET
DTSTART:19701025T030000
RRULE:FREQ=YEARLY;BYMONTH=10;BYDAY=-1SU
END:STANDARD
END:VTIMEZONE
BEGIN:VEVENT
UID:2485226:Event:2990755
DTSTAMP:20260424T112654Z
SUMMARY:Votre météo astrale personnalisée du mois
DESCRIPTION:Découvrir votre météo astrale personnalisée chaque moi
 s dans une dynamique de groupe stimulante et bienveillante pour :\n\
 nConnaitre les opportunités et les défis du mois à venir afin d’
 éclairer vos décisions et guider vos attitudes en fonction de vos ob
 jectifs de vie. Votre libre arbitre en sera renforcé, d’autant plu
 s qu’aucune prédiction ne viendra vous conditionner.\nPartager votr
 e vécu du mois précédent pour en dégager une perspective positive
  et apporter une compréhension constructive\n\nCes informations sero
 nt établies en fonction de votre thème natal de naissance et de l’
 état du ciel astrologique sur le mois à venir.\n \nAucune connaissa
 nce préalable en astrologie n’est nécessaire\n\nInformations oblig
 atoires au moins une semaine avant l’atelier: date, heure, ville et
  pays de naissance.\n \nGroupe limité à 7 personnes – Horaire de 
 14h00 à 17h45 – Tarif : 60 Euros.\nUne préparation individuelle a
 vant l’atelier étant réalisée, le règlement est demandé à l’
 inscription.\nEn cas de contraintes imprévues, vous empêchant d’as
 sister au groupe, votre météo astrale personnalisée pourra vous êt
 re transmise par téléphone ou par skype sur rendez-vous préalableme
 nt convenu entre nous.\n \n1erAtelier – Le samedi 1erDécembre 2018
  à 14H00\n \nCentre HUMA – 11 rue René VILLERME -75011 Paris – 
 Métro Père Lachaise\n \nInscription par mail sur astrogalaxis@gmail
 .com\n\nPour plus d'information, aller sur https://epanews.fr/events/v
 otre-meteo-astrale-mensuelle-personnalisee
DTSTART;TZID=Europe/Paris:20181201T140000
DTEND;TZID=Europe/Paris:20181201T174500
CATEGORIES:75
LOCATION:Centre Huma Paris
WEBSITE:https://www.google.com/maps/place/Centre+HUMA/@48.8617871,2.38
 39855,17z/data=!3m1!4b1!4m5!3m4!1s0x47e66df3bd43122f:0x8dec5ae48b5de53
 c!8m2!3d48.8617836!4d2.3861742
URL:https://www.google.com/maps/place/Centre+HUMA/@48.8617871,2.383985
 5,17z/data=!3m1!4b1!4m5!3m4!1s0x47e66df3bd43122f:0x8dec5ae48b5de53c!8m
 2!3d48.8617836!4d2.3861742
CONTACT:
ORGANIZER;CN=MagieDeLaVie:https://epanews.fr/profile/MagieDeLaVie
ATTACH;FMTTYPE="image/jpeg":http://storage.ning.com/topology/rest/1.0/
 file/get/1663765551?profile=original
ATTENDEE;ROLE=REQ-PARTICIPANT;PARTSTAT=ACCEPTED;RSVP=TRUE;CN=MagieDeLa
 Vie:https://epanews.fr/profile/MagieDeLaVie
END:VEVENT
END:VCALENDAR
