BEGIN:VCALENDAR
PRODID:NingEventWidget-v1
VERSION:2.0
METHOD:PUBLISH
BEGIN:VTIMEZONE
TZID:Europe/Paris
X-LIC-LOCATION:Europe/Paris
BEGIN:DAYLIGHT
TZOFFSETFROM:+0100
TZOFFSETTO:+0200
TZNAME:CEST
DTSTART:19700329T020000
RRULE:FREQ=YEARLY;BYMONTH=3;BYDAY=-1SU
END:DAYLIGHT
BEGIN:STANDARD
TZOFFSETFROM:+0200
TZOFFSETTO:+0100
TZNAME:CET
DTSTART:19701025T030000
RRULE:FREQ=YEARLY;BYMONTH=10;BYDAY=-1SU
END:STANDARD
END:VTIMEZONE
BEGIN:VEVENT
UID:2485226:Event:893966
DTSTAMP:20260421T171350Z
SUMMARY:Voix, sons, chant libre, aroma : un souffle de bien Ãªtre
DESCRIPTION:Nouveau Souffle et bien Ãªtre\ndu 6 au 13 Octobre 2012\nA 
 EssaouiraÂ face Ã  l'atlantique\nRÃ©gÃ©nÃ©ration par la douceur libÃ©r
 atrice des sonsÂ improvisÃ©s\nDÃ©ploiement de soi grÃ¢ce au chant libr
 e.\nÂ \n\nÂ \nOlfaction dâ€™huiles essentielles\nBaignades, mer, mÃ©di
 naÂ hammam, massage.\nRencontre avec les Gnawas, visites des coopÃ©rat
 ivesÂ  dâ€™huile dâ€™Argan\nÂ \n\nAnne Ghodbane Richard, thÃ©rapeute i
 ntuitive\nExploratrice de la voix improvisÃ©e - Tarologue spirituelle,
 \nÂ vous proposeÂ  de reprendre votreÂ  souffle, et de vous rÃ©gÃ©nÃ©r
 er\ndans la douceur et la bienveillance.\nÂ \nNous cheminerons avec lâ
 €™Ã©clairage de la symbolique du Tarot de Marseille\nVol/SÃ©jour et St
 age Voix : 1 045 â‚¬ - www.riadzahra.com face Ã  la mer.\n\nishah@free
 .fr ou 06 73 65 60 18 â€“ 01 47 00 93 00\nÂ \nwww.milleetunevoix.com â
 €“ www.anishah.com\n\nPour plus d'information, aller sur https://epane
 ws.fr/events/voix-sons-chant-libre-aroma-un-souffle-de-bien-tre
DTSTART;TZID=Europe/Paris:20120802T180000
DTEND;TZID=Europe/Paris:20120802T190000
CATEGORIES:maroc
LOCATION:Essaouira - Maroc
WEBSITE:
URL:
CONTACT:
ORGANIZER;CN="Anne Ghodbane Richard":https://epanews.fr/profile/AnneGh
 odbaneRichard
ATTACH;FMTTYPE="image/jpeg":http://storage.ning.com/topology/rest/1.0/
 file/get/1662642449?profile=original
ATTENDEE;ROLE=REQ-PARTICIPANT;PARTSTAT=ACCEPTED;RSVP=TRUE;CN="Anne Gho
 dbane Richard":https://epanews.fr/profile/AnneGhodbaneRichard
END:VEVENT
END:VCALENDAR
