BEGIN:VCALENDAR
PRODID:NingEventWidget-v1
VERSION:2.0
METHOD:PUBLISH
BEGIN:VTIMEZONE
TZID:Europe/Paris
X-LIC-LOCATION:Europe/Paris
BEGIN:DAYLIGHT
TZOFFSETFROM:+0100
TZOFFSETTO:+0200
TZNAME:CEST
DTSTART:19700329T020000
RRULE:FREQ=YEARLY;BYMONTH=3;BYDAY=-1SU
END:DAYLIGHT
BEGIN:STANDARD
TZOFFSETFROM:+0200
TZOFFSETTO:+0100
TZNAME:CET
DTSTART:19701025T030000
RRULE:FREQ=YEARLY;BYMONTH=10;BYDAY=-1SU
END:STANDARD
END:VTIMEZONE
BEGIN:VEVENT
UID:2485226:Event:1883728
DTSTAMP:20260422T124857Z
SUMMARY:Vente de livres neufs d'Ã©diteurs indÃ©pendants - Grand marchÃ
 © VICHY
DESCRIPTION:Bonjour! agent commercial inscrit au TC Chalon sur SaÃ´ne,
  je vends des livres neufs (plus de 900 rÃ©fÃ©rences Ã  80% en jeuness
 e et 20% adultes)Â  de plus de vingt Ã©diteurs indÃ©pendants, pour deu
 x sociÃ©tÃ©s d'Ã©ditions indÃ©pendantes de CÃ´te d'Or et SaÃ´ne et Loi
 re.  Ma clientÃ¨le est composÃ©e de bibliothÃ¨ques, CCAS, CE, Ã©tablis
 sements scolaires, crÃ¨ches, garderies, maisons de retraite et particu
 liers rencontrÃ©s sur des salons, sur une douzaine de dÃ©partements. J
 e serai prÃ©sent chaque matin sur mon stand au Grand MarchÃ© couvert d
 e VICHY du vendredi 25 au dimanche 27 avril.  Venez m'y rencontrer! Vo
 us Ãªtes dÃ©jÃ  une quarantaine\n\nPour plus d'information, aller sur 
 https://epanews.fr/events/vnete-de-livres-neufs-d-diteurs-ind-pendants
 -grand-march-vichy
DTSTART;TZID=Europe/Paris:20140425T080000
DTEND;TZID=Europe/Paris:20140427T003000
CATEGORIES:03
LOCATION:Grand MarchÃ© couvert de VICHY
WEBSITE:
URL:
CONTACT:
ORGANIZER;CN=Alain:https://epanews.fr/profile/Bouterige
ATTACH;FMTTYPE="image/jpeg":
ATTENDEE;ROLE=REQ-PARTICIPANT;PARTSTAT=ACCEPTED;RSVP=TRUE;CN=Alain:htt
 ps://epanews.fr/profile/Bouterige
END:VEVENT
END:VCALENDAR
