BEGIN:VCALENDAR
PRODID:NingEventWidget-v1
VERSION:2.0
METHOD:PUBLISH
BEGIN:VTIMEZONE
TZID:Europe/Paris
X-LIC-LOCATION:Europe/Paris
BEGIN:DAYLIGHT
TZOFFSETFROM:+0100
TZOFFSETTO:+0200
TZNAME:CEST
DTSTART:19700329T020000
RRULE:FREQ=YEARLY;BYMONTH=3;BYDAY=-1SU
END:DAYLIGHT
BEGIN:STANDARD
TZOFFSETFROM:+0200
TZOFFSETTO:+0100
TZNAME:CET
DTSTART:19701025T030000
RRULE:FREQ=YEARLY;BYMONTH=10;BYDAY=-1SU
END:STANDARD
END:VTIMEZONE
BEGIN:VEVENT
UID:2485226:Event:2583247
DTSTAMP:20260422T205744Z
SUMMARY:Vivre un éveil intérieur, seul... et/ou en groupe ?
DESCRIPTION:Par Skype, Rencontre avec la Rose-Croix, soirée d'échang
 es sur le thème : \"Vivre un éveil intérieur, seul... et/ou en grou
 pe ?\"\nS'éveiller intérieurement est un processus apparemment très
  personnel ; comment est-ce possible d'associer éveil et groupe ?\nLe
  groupe contribue-t-il à l'éveil intérieur ? L'éveil en groupe et 
 en individuel apparemment incompatibles, ne seraient-ils pas compléme
 ntaires, enrichissants ?\nQuand on parle d’Éveil, de quoi s'agit-il
  ? Qui doit s'éveiller en notre être ?\n\nCette possibilité est ré
 servée avant tout à celles et ceux qui ne peuvent pour diverses rais
 ons se rendre physiquement sur nos lieux d'activités habituels. Pour 
 pouvoir  y participer, veuillez nous communiquer vos nom, prénom, li
 eu de résidence, mail, téléphone et identifiant skype : rose-croix-
 d-or@hotmail.fr\n\nPour plus d'information, aller sur https://epanews.
 fr/events/vivre-un-veil-int-rieur-seul-et-ou-en-groupe-4
DTSTART;TZID=Europe/Paris:20160321T203000
DTEND;TZID=Europe/Paris:20160321T223000
CATEGORIES:22, 35, 56, 44, 85
LOCATION:PAR SKYPE
WEBSITE:http://www.rose-croix-d-or.org/rencontres
URL:http://www.rose-croix-d-or.org/rencontres
CONTACT:0660059797
ORGANIZER;CN=RoseCroix:https://epanews.fr/profile/RoseCroix
ATTACH;FMTTYPE="image/jpeg":http://storage.ning.com/topology/rest/1.0/
 file/get/1663530215?profile=original
ATTENDEE;ROLE=REQ-PARTICIPANT;PARTSTAT=ACCEPTED;RSVP=TRUE;CN=RoseCroix
 :https://epanews.fr/profile/RoseCroix
END:VEVENT
END:VCALENDAR
