BEGIN:VCALENDAR
PRODID:NingEventWidget-v1
VERSION:2.0
METHOD:PUBLISH
BEGIN:VTIMEZONE
TZID:Europe/Paris
X-LIC-LOCATION:Europe/Paris
BEGIN:DAYLIGHT
TZOFFSETFROM:+0100
TZOFFSETTO:+0200
TZNAME:CEST
DTSTART:19700329T020000
RRULE:FREQ=YEARLY;BYMONTH=3;BYDAY=-1SU
END:DAYLIGHT
BEGIN:STANDARD
TZOFFSETFROM:+0200
TZOFFSETTO:+0100
TZNAME:CET
DTSTART:19701025T030000
RRULE:FREQ=YEARLY;BYMONTH=10;BYDAY=-1SU
END:STANDARD
END:VTIMEZONE
BEGIN:VEVENT
UID:2485226:Event:820858
DTSTAMP:20260421T092541Z
SUMMARY:Vivre le moment présent ?
DESCRIPTION:Vivre le moment présent est depuis toujours un leitmotiv 
 qui anime tout chercheur de vérité. « Cueille le jour », car trop 
 souvent ce sont les jours qui nous cueillent. De nombreux philosophes 
 et grands initiés ont fait de ce précepte un élément actif de leur
  enseignement de sagesse. L’homme, courbé et soumis au temps et à 
 l’espace, est broyé par Chronos qui dévore ces enfants. Se pourrai
 t-il que l’homme puisse se libérer de son destin ? Qu’une part de
  lui-même échappe au temps linéaire, et soit gouvernée par des loi
 s différentes de celles de « l’espace-temps » ? N’est-ce pas so
 n « égo de désir » qui le projette constamment dans le temps ? Est
 -il encore possible, dans un monde où l’on essaie de rattraper le t
 emps, où le temps se contracte, de pouvoir goûter au non-temps, à l
 ’Eternité ? \nEntrée libre et gratuite\n\nPour plus d'information
 , aller sur https://epanews.fr/events/vivre-le-moment-pr-sent-1
DTSTART;TZID=Europe/Paris:20120523T200000
DTEND;TZID=Europe/Paris:20120523T220000
CATEGORIES:31
LOCATION:Toulouse
WEBSITE:http://www.rose-croix-d-or.org
URL:http://www.rose-croix-d-or.org
CONTACT:06 88 76 10 98
ORGANIZER:Ecole Gnostique de la Rose-Croix d'Or
ATTACH;FMTTYPE="image/jpeg":http://storage.ning.com/topology/rest/1.0/
 file/get/1662607081?profile=original
ATTENDEE;ROLE=REQ-PARTICIPANT;PARTSTAT=ACCEPTED;RSVP=TRUE;CN="Christia
 n Malgras":https://epanews.fr/profile/ChristianMalgras
END:VEVENT
END:VCALENDAR
