BEGIN:VCALENDAR
PRODID:NingEventWidget-v1
VERSION:2.0
METHOD:PUBLISH
BEGIN:VTIMEZONE
TZID:Europe/Paris
X-LIC-LOCATION:Europe/Paris
BEGIN:DAYLIGHT
TZOFFSETFROM:+0100
TZOFFSETTO:+0200
TZNAME:CEST
DTSTART:19700329T020000
RRULE:FREQ=YEARLY;BYMONTH=3;BYDAY=-1SU
END:DAYLIGHT
BEGIN:STANDARD
TZOFFSETFROM:+0200
TZOFFSETTO:+0100
TZNAME:CET
DTSTART:19701025T030000
RRULE:FREQ=YEARLY;BYMONTH=10;BYDAY=-1SU
END:STANDARD
END:VTIMEZONE
BEGIN:VEVENT
UID:2485226:Event:1950153
DTSTAMP:20260424T032746Z
SUMMARY:Vivre la joie et l'harmonie dans le couple
DESCRIPTION:Vivre la joie et l'harmonie dans le couple \nSéminaire du
  vendredi 27 au dimanche 29 juin 2014 en Charente Maritime 17\nPour é
 couter les deux émissions de radio sur ce thème, voir page d'accueil
  du site www.oser-etre-soi.fr\nLe couple est une espèce en voie d'app
 arition, un creuset d'évolution qui se redéfinit sans cesse dans un 
 jeu d'équilibre du masculin et du féminin en soi.\nSeul(e) ou en cou
 ple, venez mettre à jour vos schémas familiaux limitant pour communi
 quer avec bienveillance, aimer dans le respect de soi et de l'autre.\n
 Faire une juste place à la sexualité éclairée qui relie le corps, 
 le cœur et la conscience.\nUne approche qui prend en compte l'être d
 ans sa globalité pour mettre de la vie dans le couple présent ou à 
 venir.\n\nPour plus d'information, aller sur https://epanews.fr/events
 /vivre-la-joie-et-l-harmonie-dans-le-couple
DTSTART;TZID=Europe/Paris:20140627T000000
DTEND;TZID=Europe/Paris:20140629T235900
CATEGORIES:17
LOCATION:Charente Maritime
WEBSITE:http://www.oser-etre-soi.fr
URL:http://www.oser-etre-soi.fr
CONTACT:0632390483
ORGANIZER;CN="Nelly Quil Oser Etre Soi":https://epanews.fr/profile/Nel
 lyQuilOserEtreSoi
ATTACH;FMTTYPE="image/jpeg":http://storage.ning.com/topology/rest/1.0/
 file/get/1663156384?profile=original
ATTENDEE;ROLE=REQ-PARTICIPANT;PARTSTAT=ACCEPTED;RSVP=TRUE;CN="Nelly Qu
 il Oser Etre Soi":https://epanews.fr/profile/NellyQuilOserEtreSoi
END:VEVENT
END:VCALENDAR
