BEGIN:VCALENDAR
PRODID:NingEventWidget-v1
VERSION:2.0
METHOD:PUBLISH
BEGIN:VTIMEZONE
TZID:Europe/Paris
X-LIC-LOCATION:Europe/Paris
BEGIN:DAYLIGHT
TZOFFSETFROM:+0100
TZOFFSETTO:+0200
TZNAME:CEST
DTSTART:19700329T020000
RRULE:FREQ=YEARLY;BYMONTH=3;BYDAY=-1SU
END:DAYLIGHT
BEGIN:STANDARD
TZOFFSETFROM:+0200
TZOFFSETTO:+0100
TZNAME:CET
DTSTART:19701025T030000
RRULE:FREQ=YEARLY;BYMONTH=10;BYDAY=-1SU
END:STANDARD
END:VTIMEZONE
BEGIN:VEVENT
UID:2485226:Event:2792861
DTSTAMP:20260422T134805Z
SUMMARY:Vivre en joie la musique de sa vie
DESCRIPTION:Cet atelier animÃ© par Marc Vella lui-mÃªme, propose Ã  de
 s personnes n'ayant jamais fait de musique, de jouer en se faisant pla
 isir, en \"osant\" toutes les notes, et offre Ã  des musiciens formatÃ
 ©s par l'apprentissage, une plus grande libertÃ© d'expression. En impr
 ovisant sur le piano, vous dÃ©couvrirez qu'il n'y a pas de fausses not
 es. Tout votre Ãªtre jusqu'Ã  vos cellules enregistrera ce message joy
 eux et guÃ©risseur. Le vibrant Ã  votre Ãªtre vibratoire, voilÃ  le pl
 us court chemin pour harmoniser sa vie... Vous connaÃ®trez la grÃ¢ce d
 'Ãªtre traversÃ©... Vivre autrement la musique de sa vie est plus qu'u
 n simple stage de musique, il nous accorde en profondeur. Ici au Hamea
 u la SabliÃ¨re, un lieu de toutes beautÃ©s qui vous accueille en chamb
 re de 2 personnes ainsi que des espaces collectifs.Â  Pour dÃ©couvrir 
 le hameau voic un lien reportage France 3Â  https://youtu.be/WUiNhmBGU
 Gw  Marc Vella une vidÃ©o... parmi tant d'autres..; https://youtu.be/0
 eJv6yOebUI Son siteÂ  https://www.marcvella.com/\n\nPour plus d'inform
 ation, aller sur https://epanews.fr/events/vivre-en-joie-la-musique-de
 -sa-vie
DTSTART;TZID=Europe/Paris:20170610T000000
DTEND;TZID=Europe/Paris:20170611T235900
CATEGORIES:48
LOCATION:Hameau la SabliÃ¨re Gorges du Tarn 48150
WEBSITE:https://www.google.fr/maps/place/Le+Hameau+de+la+Sabli%C3%A8re
 +-+Association+Essentielle/@44.2234968,3.2265633,17z/data=!3m1!4b1!4m5
 !3m4!1s0x12b3afb82dea61e1:0xdaedd4d1c83f636c!8m2!3d44.223493!4d3.22875
 2?hl=fr
URL:https://www.google.fr/maps/place/Le+Hameau+de+la+Sabli%C3%A8re+-+A
 ssociation+Essentielle/@44.2234968,3.2265633,17z/data=!3m1!4b1!4m5!3m4
 !1s0x12b3afb82dea61e1:0xdaedd4d1c83f636c!8m2!3d44.223493!4d3.228752?hl
 =fr
CONTACT:06 74 51 50 99
ORGANIZER:
ATTACH;FMTTYPE="image/jpeg":http://storage.ning.com/topology/rest/1.0/
 file/get/1663645828?profile=original
ATTENDEE;ROLE=REQ-PARTICIPANT;PARTSTAT=ACCEPTED;RSVP=TRUE;CN="Sandra R
 ouyer":https://epanews.fr/profile/SandraRouyer
END:VEVENT
END:VCALENDAR
