BEGIN:VCALENDAR
PRODID:NingEventWidget-v1
VERSION:2.0
METHOD:PUBLISH
BEGIN:VTIMEZONE
TZID:Europe/Paris
X-LIC-LOCATION:Europe/Paris
BEGIN:DAYLIGHT
TZOFFSETFROM:+0100
TZOFFSETTO:+0200
TZNAME:CEST
DTSTART:19700329T020000
RRULE:FREQ=YEARLY;BYMONTH=3;BYDAY=-1SU
END:DAYLIGHT
BEGIN:STANDARD
TZOFFSETFROM:+0200
TZOFFSETTO:+0100
TZNAME:CET
DTSTART:19701025T030000
RRULE:FREQ=YEARLY;BYMONTH=10;BYDAY=-1SU
END:STANDARD
END:VTIMEZONE
BEGIN:VEVENT
UID:2485226:Event:2661813
DTSTAMP:20260421T144114Z
SUMMARY:\"Vivre en joie la musique de la vie\" avec Marc VELLA et son 
 piano
DESCRIPTION:Qui dans sa vie, n’a pas été maladroit, insuffisant, d
 éfaillant ? Qui n’a pas manqué parfois de discernement ? Qui n’a
  pas été blessé, offensé ? Et si les fausses notes étaient une ch
 ance. Et si elles étaient notre plus grande aventure donnant un sens 
 à notre vie. Nous n’avons qu’un devoir : accueillir les fausses n
 otes pour les rendre belles. Cet atelier propose à des personnes n’
 ayant jamais fait de musique de jouer réellement et ce, en quelques h
 eures, en ‘‘osant’’ toutes les notes et offre à des musiciens
  formatés par l’apprentissage, une plus grande liberté d’express
 ion. En improvisant sur le piano, vous découvrirez qu’il n’y a pa
 s de fausses notes. Tout votre être jusqu’à vos cellules enregistr
 era ce message de vie, joyeux et guérisseur. Le vibrant à votre êtr
 e vibratoire, voilà le plus court chemin pour s’harmoniser avec la 
 vie... Vous connaîtrez la grâce d’être traversé... Vivre autreme
 nt la musique de la vie est plus qu’un simple stage de musique, il n
 ous accorde en profondeur. Un musicien est avant tout quelqu’un qui 
 entre en amour avec le silence.\nAvec Marc Vella et son piano à queue
  sous une yourte. www.marcvella.com\nPour débutant, amateur, professi
 onnel\nTarif hors hébergement et repas formule auberge espagnole:  
 280€ ou 100€ la journée\nInclus le concert du vendredi 12 aout à
  21h sous la yourte.\nHébergements en résidentiel sous habitats inso
 lites ou tente : entre 11€ et 16€/nuit/personne.\nRéservation st
 age et hébergement: Corine Tournier au 06 24 61 73 43 ou corinefleurd
 elune@laposte.net\n\nPour plus d'information, aller sur https://epanew
 s.fr/events/vivre-en-joie-la-musique-de-la-vie-avec-marc-vella-et-son-
 piano
DTSTART;TZID=Europe/Paris:20160812T150000
DTEND;TZID=Europe/Paris:20160815T180000
CATEGORIES:26
LOCATION:Ecosite Oasis Bellecombe - La Motte Chalancon
WEBSITE:http://www.oasisbellecombe.com
URL:http://www.oasisbellecombe.com
CONTACT:06 24 61 73 43
ORGANIZER;CN="Corine Fleur de Lune":https://epanews.fr/profile/CorineF
 leurdeLune
ATTACH;FMTTYPE="image/jpeg":http://storage.ning.com/topology/rest/1.0/
 file/get/1663576482?profile=original
ATTENDEE;ROLE=REQ-PARTICIPANT;PARTSTAT=ACCEPTED;RSVP=TRUE;CN="Corine F
 leur de Lune":https://epanews.fr/profile/CorineFleurdeLune
END:VEVENT
END:VCALENDAR
