BEGIN:VCALENDAR
PRODID:NingEventWidget-v1
VERSION:2.0
METHOD:PUBLISH
BEGIN:VTIMEZONE
TZID:Europe/Paris
X-LIC-LOCATION:Europe/Paris
BEGIN:DAYLIGHT
TZOFFSETFROM:+0100
TZOFFSETTO:+0200
TZNAME:CEST
DTSTART:19700329T020000
RRULE:FREQ=YEARLY;BYMONTH=3;BYDAY=-1SU
END:DAYLIGHT
BEGIN:STANDARD
TZOFFSETFROM:+0200
TZOFFSETTO:+0100
TZNAME:CET
DTSTART:19701025T030000
RRULE:FREQ=YEARLY;BYMONTH=10;BYDAY=-1SU
END:STANDARD
END:VTIMEZONE
BEGIN:VEVENT
UID:2485226:Event:951395
DTSTAMP:20260421T200806Z
SUMMARY:Vivre de ma Passion!
DESCRIPTION:Une journÃ©e pour faire dÃ©coller votre pratique de bien-Ã
 ªtre et mettre en lumiÃ¨re vos croyances limitantes en matiÃ¨re de rÃ©
 ussite, abondance et spiritualitÃ©...   Ce sÃ©minaire est pour vous si
 :   - Vous avez choisi de vivre votre passion, mais les clients ne se 
 bousculent pas...- Vous avez du mal Ã  demander de l'argent pour vos s
 ervices... - Vous trouvez difficile de dÃ©crire ce que vous faites... 
 - Vous vous sentez seule, mal comprise, isolÃ©e... - Vous ne savez pas
  par oÃ¹ commencer pour communiquer, ni sur Internet ni ailleurs...   
 Venez tapoter, rire, Ã©changer, manger, danser, rÃ©flÃ©chir, partager,
  rÃªver avec des personnes comme vous!   IngÃ©nieur de Bien-Etre, c'es
 t ma passion d'aider les \"Entrepreneurs de Coeur\" Ã  faire connaÃ®tr
 e leur activitÃ© pour trouver plus de clients, gagner plus d'argent et
  libÃ©rer plus de temps pour l'essentiel, tout en respectant leurs val
 eurs profondes.   Pendant cette journÃ©e, je mets Ã  votre service ma 
 double compÃ©tence unique pour dÃ©blayer les blocages internes et acti
 ver vos ressources externes. Vous en partirez grandis, confiants, et a
 vec des idÃ©es nouvelles Ã  mettre en pratique tout de suite.   Plein 
 de personnes ont besoin de vos services! Et s'il Ã©tait temps de parta
 ger votre passion avec le monde?\nTarif pour la journÃ©e: 149â‚¬ - que
 lques places disponibles en avant-premiÃ¨re Ã  99â‚¬\nInscription: htt
 p://www.weezevent.com/vivre-de-ma-passion\n\n\nPour plus d'information
 , aller sur https://epanews.fr/events/vivre-de-ma-passion-1
DTSTART;TZID=Europe/Paris:20121025T000000
DTEND;TZID=Europe/Paris:20121025T235900
CATEGORIES:75
LOCATION:Paris, adresse Ã  prÃ©ciser
WEBSITE:
URL:
CONTACT:06 31 68 06 99
ORGANIZER;CN="Maria Annell - EFT Pour Tous":https://epanews.fr/profile
 /MariaAnnellEFTPourTous
ATTACH;FMTTYPE="image/jpeg":http://storage.ning.com/topology/rest/1.0/
 file/get/1662670562?profile=original
ATTENDEE;ROLE=REQ-PARTICIPANT;PARTSTAT=ACCEPTED;RSVP=TRUE;CN="Maria An
 nell - EFT Pour Tous":https://epanews.fr/profile/MariaAnnellEFTPourTou
 s
END:VEVENT
END:VCALENDAR
