BEGIN:VCALENDAR
PRODID:NingEventWidget-v1
VERSION:2.0
METHOD:PUBLISH
BEGIN:VTIMEZONE
TZID:Europe/Paris
X-LIC-LOCATION:Europe/Paris
BEGIN:DAYLIGHT
TZOFFSETFROM:+0100
TZOFFSETTO:+0200
TZNAME:CEST
DTSTART:19700329T020000
RRULE:FREQ=YEARLY;BYMONTH=3;BYDAY=-1SU
END:DAYLIGHT
BEGIN:STANDARD
TZOFFSETFROM:+0200
TZOFFSETTO:+0100
TZNAME:CET
DTSTART:19701025T030000
RRULE:FREQ=YEARLY;BYMONTH=10;BYDAY=-1SU
END:STANDARD
END:VTIMEZONE
BEGIN:VEVENT
UID:2485226:Event:537799
DTSTAMP:20260423T000809Z
SUMMARY:\"Vive le Pericarde libre !\" au salon ZEN de Paris 28.09 au 0
 3.10.2011
DESCRIPTION:Je serai presente tout au long du salon Zen de Paris Espac
 e Champerret dans le 17eme,  qui se tiendra du jeudi 29.09 au lundi 
 03.10.2011 inclus pour parler et presenter la liberation du Coeur-Per
 icarde.Stand de l'Univers d'Esther : Hall A - Allee H2.\n \nEXCEPTION
 NEL : conference vendredi 30.09 de Montserrat Gascon fondatrice de l'O
 BC sur le salon a 11 heures, puis a la librairie l'Univers d'Esther Pa
 ris, vendredi egalement 20H30.\nSur le salon : vendredi 30 toute l'apr
 es-midi Montserrat dedicacera ses livres 'vive le pericarde libre !' 
  et 'le Secret du Coeur'.\nInscriptions aux conferences obligatoire au
 pres de Melissa au 06 31 75 31 44 ou par mail : melissa.pericarde@gmai
 l.com.\nToutes les infos sur http://pericarde-libre.monsite-orange.fr\
 n\nPour plus d'information, aller sur https://epanews.fr/events/vive-l
 e-pericarde-libre-au-salon-zen-de-paris-28-09-au-03-10
DTSTART;TZID=Europe/Paris:20110929T100000
DTEND;TZID=Europe/Paris:20111003T190000
CATEGORIES:75
LOCATION:Paris
WEBSITE:http://pericarde-libre.monsite-orange.fr
URL:http://pericarde-libre.monsite-orange.fr
CONTACT:0631753144
ORGANIZER;CN="Mélissa Purrucker":https://epanews.fr/profile/MelissaPu
 rrucker
ATTACH;FMTTYPE="image/jpeg":http://storage.ning.com/topology/rest/1.0/
 file/get/1662459317?profile=original
ATTENDEE;ROLE=REQ-PARTICIPANT;PARTSTAT=ACCEPTED;RSVP=TRUE;CN="Mélissa
  Purrucker":https://epanews.fr/profile/MelissaPurrucker
END:VEVENT
END:VCALENDAR
