BEGIN:VCALENDAR
PRODID:NingEventWidget-v1
VERSION:2.0
METHOD:PUBLISH
BEGIN:VTIMEZONE
TZID:Europe/Paris
X-LIC-LOCATION:Europe/Paris
BEGIN:DAYLIGHT
TZOFFSETFROM:+0100
TZOFFSETTO:+0200
TZNAME:CEST
DTSTART:19700329T020000
RRULE:FREQ=YEARLY;BYMONTH=3;BYDAY=-1SU
END:DAYLIGHT
BEGIN:STANDARD
TZOFFSETFROM:+0200
TZOFFSETTO:+0100
TZNAME:CET
DTSTART:19701025T030000
RRULE:FREQ=YEARLY;BYMONTH=10;BYDAY=-1SU
END:STANDARD
END:VTIMEZONE
BEGIN:VEVENT
UID:2485226:Event:2016389
DTSTAMP:20260421T171401Z
SUMMARY:Atelier de peinture intuitive
DESCRIPTION:Ateliers bi-mensuels de peinture intuitive\n\nMéditation,
  créativité  & ressourcement\n\nA partir du 4 octobre 2014 Paris e
 t Montreuil\n \nParticiper à un atelier de peinture intuitive permet
 \n✶ De vivre librement sa créativité en apprenant à utiliser son 
 cerveau droit, intuitif, sensible et imaginatif. \n✶ De se libérer
  des croyances limitatives que l'on peut avoir sur soi.\nParticiper à
  ces ateliers c'est aussi venir écouter ses émotions, ses sensations
 , ses rêves, son corps physique et se permettre d'exprimer sur la toi
 le ce qui a été expérimenté lors de ses voyages intérieurs ! En 
 savoir plus Ici \n\n\nConditions et informations complémentaires\n\n
 \n\n1 mercredi (Montreuil) et un samedi (Paris 3ème) sur 2 à partir 
 du 1er octobre 2014 de 10h00 à 13h00 \n\nRendez vous sur le site int
 ernet Ici \n\n\n\nVotre accompagnatrice\nNaty Davillars\nPeintre int
 uitif. Coaching en psycho-corporel & énergétique.\nInscription et re
 nseignements par mail  ou sur le site Totem Artvision\n\n\n\n\n\n\
 n\n\n\n\n\nPour plus d'information, aller sur https://epanews.fr/event
 s/vive-la-rentr-e-2014-m-ditation-cr-ativit-ressourcement-retour
DTSTART;TZID=Europe/Paris:20141001T100000
DTEND;TZID=Europe/Paris:20141001T130000
CATEGORIES:75
LOCATION:Paris, Montreuil
WEBSITE:http://totemartvision.wix.com/artvision
URL:http://totemartvision.wix.com/artvision
CONTACT:
ORGANIZER;CN="Naty Davillars":https://epanews.fr/profile/NatyDavillars
ATTACH;FMTTYPE="image/jpeg":http://storage.ning.com/topology/rest/1.0/
 file/get/1663200392?profile=original
ATTENDEE;ROLE=REQ-PARTICIPANT;PARTSTAT=ACCEPTED;RSVP=TRUE;CN="Naty Dav
 illars":https://epanews.fr/profile/NatyDavillars
END:VEVENT
END:VCALENDAR
