BEGIN:VCALENDAR
PRODID:NingEventWidget-v1
VERSION:2.0
METHOD:PUBLISH
BEGIN:VTIMEZONE
TZID:Europe/Paris
X-LIC-LOCATION:Europe/Paris
BEGIN:DAYLIGHT
TZOFFSETFROM:+0100
TZOFFSETTO:+0200
TZNAME:CEST
DTSTART:19700329T020000
RRULE:FREQ=YEARLY;BYMONTH=3;BYDAY=-1SU
END:DAYLIGHT
BEGIN:STANDARD
TZOFFSETFROM:+0200
TZOFFSETTO:+0100
TZNAME:CET
DTSTART:19701025T030000
RRULE:FREQ=YEARLY;BYMONTH=10;BYDAY=-1SU
END:STANDARD
END:VTIMEZONE
BEGIN:VEVENT
UID:2485226:Event:1973834
DTSTAMP:20260421T043139Z
SUMMARY:Vivation
DESCRIPTION:Une méthode alliant respiration et écoute du corps pour 
 une relaxation profonde et une intégration de tout sentiment, émotio
 n ou douleur.\n\nVoir www.vivation.com/swiss\n\nPour plus d'informatio
 n, aller sur https://epanews.fr/events/vivation
DTSTART;TZID=Europe/Paris:20140725T000000
DTEND;TZID=Europe/Paris:20140727T235900
CATEGORIES:suisse
LOCATION:Village dans le jura suisse, à 30 minutes de Lausanne.
WEBSITE:http://www.vivation.com/swiss
URL:http://www.vivation.com/swiss
CONTACT:
ORGANIZER;CN=Agata:https://epanews.fr/profile/Agata
ATTACH;FMTTYPE="image/jpeg":
ATTENDEE;ROLE=REQ-PARTICIPANT;PARTSTAT=ACCEPTED;RSVP=TRUE;CN=Agata:htt
 ps://epanews.fr/profile/Agata
END:VEVENT
END:VCALENDAR
