BEGIN:VCALENDAR
PRODID:NingEventWidget-v1
VERSION:2.0
METHOD:PUBLISH
BEGIN:VTIMEZONE
TZID:Europe/Paris
X-LIC-LOCATION:Europe/Paris
BEGIN:DAYLIGHT
TZOFFSETFROM:+0100
TZOFFSETTO:+0200
TZNAME:CEST
DTSTART:19700329T020000
RRULE:FREQ=YEARLY;BYMONTH=3;BYDAY=-1SU
END:DAYLIGHT
BEGIN:STANDARD
TZOFFSETFROM:+0200
TZOFFSETTO:+0100
TZNAME:CET
DTSTART:19701025T030000
RRULE:FREQ=YEARLY;BYMONTH=10;BYDAY=-1SU
END:STANDARD
END:VTIMEZONE
BEGIN:VEVENT
UID:2485226:Event:1096725
DTSTAMP:20260422T021734Z
SUMMARY:L'or des sens
DESCRIPTION:Bonjour,  Mois de Mai nous pousse à hue et à dia dans un
 e énergie printanière favorable au dégrippage. Pluie, pluie, nuages
 ... hop soleil... pluie... pluie... un petit coup de soleil... un peu 
 de vent...  Profitons-en pour rencontrer notre eau : fluidité, récep
 tivité et sensualité.  Présentation de la journée Tantra du dimanc
 he 26 Mai 2013 de 10h à 18h30 en cliquant sur ce lien : http://www.is
 abelle-ferchaud.fr/article-l-or-des-sens-stage-tantra-26-mai-2013-1175
 19146.html   Lieu : Association Astéria, 33760 BELLEFOND (à 40 km du
  centre de BORDEAUX, à 24 km de LIBOURNE)  Amener tenue souple, bande
 au pour les yeux, couverture, coussin, pique-nique pour le midi (ou co
 mmander un repas). Pour ce stage amener un ou des fruits bien mûrs, o
 u autres saveurs (pas d'alcool).  Prix : 100 Euros (pour les inscripti
 ons sans engagement) 80 Euros si vous vous inscrivez en envoyant des a
 rrhes (40 Euros) à cette adresse : Isabelle FERCHAUD 30 rue Dépé, R
 ésidence Epernon, 33200 BORDEAUX Les arrhes ne sont pas encaissées a
 vant le stage qu'elles concernent et ne sont pas remboursées en cas d
 e désistement survenant moins de 30 jours avant le stage.  Hébergeme
 nt possible sur place en prévenant à l'avance : nuitée 20 Euros, pt
 it déj 5 Euros, repas 15 Euros.  Co-voiturage possible en me contacta
 nt.   Isabelle FERCHAUD Relaxologue  Aide à la relation & Bien-être 
  06 87 88 25 58 www.isabelle-ferchaud.fr  30, rue Dépé Résidence Ep
 ernon 33200 BORDEAUX ------------------------------  A 50 ans… les e
 xpériences vécues en conscience croissante, les solides formations e
 n relations humaines et bien-être sont ma richesse. Je m'appuie sur u
 ne acuité psychique et sensorielle fine pour accompagner les personne
 s. Une grande rigueur pose un cadre protecteur, une grande douceur et 
 délicatesse vous accueillent. Mon seul programme est celui de suivre 
 l'énergie du groupe, d'écouter-ressentir et je crée au fur et à me
 sure. \nIsabelle FERCHAUD\n\n\nPour plus d'information, aller sur http
 s://epanews.fr/events/vitalit-tantra-2
DTSTART;TZID=Europe/Paris:20130526T000000
DTEND;TZID=Europe/Paris:20130526T235900
CATEGORIES:33
LOCATION:BELLEFOND (à 35 km de BORDEAUX, à 24 km de LIBOURNE)
WEBSITE:http://www.isabelle-ferchaud.fr/article-l-or-des-sens-stage-ta
 ntra-26-mai-2013-117519146.html
URL:http://www.isabelle-ferchaud.fr/article-l-or-des-sens-stage-tantra
 -26-mai-2013-117519146.html
CONTACT:06 87 88 25 58
ORGANIZER;CN="Isabelle FERCHAUD":https://epanews.fr/profile/IsabelleFE
 RCHAUD
ATTACH;FMTTYPE="image/jpeg":http://storage.ning.com/topology/rest/1.0/
 file/get/1662829285?profile=original
ATTENDEE;ROLE=REQ-PARTICIPANT;PARTSTAT=ACCEPTED;RSVP=TRUE;CN="Isabelle
  FERCHAUD":https://epanews.fr/profile/IsabelleFERCHAUD
END:VEVENT
END:VCALENDAR
