BEGIN:VCALENDAR
PRODID:NingEventWidget-v1
VERSION:2.0
METHOD:PUBLISH
BEGIN:VTIMEZONE
TZID:Europe/Paris
X-LIC-LOCATION:Europe/Paris
BEGIN:DAYLIGHT
TZOFFSETFROM:+0100
TZOFFSETTO:+0200
TZNAME:CEST
DTSTART:19700329T020000
RRULE:FREQ=YEARLY;BYMONTH=3;BYDAY=-1SU
END:DAYLIGHT
BEGIN:STANDARD
TZOFFSETFROM:+0200
TZOFFSETTO:+0100
TZNAME:CET
DTSTART:19701025T030000
RRULE:FREQ=YEARLY;BYMONTH=10;BYDAY=-1SU
END:STANDARD
END:VTIMEZONE
BEGIN:VEVENT
UID:2485226:Event:1096288
DTSTAMP:20260422T051403Z
SUMMARY:Vitalité tantra
DESCRIPTION:Les tantrikas ne rêvent pas, ils existent. Cela donne une
  grande liberté intérieure. L'énergie sexuelle vitale est transform
 ée et affinée par la conscience. La conscience traque toutes les ten
 tatives de manipulation onirique de l'ego, ce qui permet à l'amour de
  se manifester. La vie devient intensément paisible, la paix intensé
 ment vivante. Le tantra est un ensemble de techniques d'expansion de l
 a conscience pour se libérer des conditionnements, des croyances (not
 amment dans la relation homme/femme), pour se réapproprier son énerg
 ie vitale sexuelle, pour vivre l'état naturel d'amour et de paix qui 
 caractérise l'être profond.\nJe vous invite à pratiquer comme un en
 fant la voie de l'émerveillement, de l'innocence, de l'excitation par
  le jeu, à apprendre à chevaucher l'énergie, à savoir dire non qua
 nd c'est non et oui quand c'est oui, à jouer avec la présence et à 
 l'intensifier...\nContenu du stage de 10h00 à 18h30 : Danse et médit
 ations tantriques,  cercle de paroles, conscience de l'énergie, jeux
  de rôles.\nEvidemment pas de relations sexuelles…\nAmener tenue so
 uple, bandeau pour les yeux, couverture, coussin, tapis de sol, et piq
 ue-nique pour le midi.\nATTENTION : ce stage sera maintenu s'il y a su
 ffisamment d'inscrits avant le 15 février.\nUne autre journée :\nDim
 anche 26 mai 2013\nPrix : 100 Euros par jour (pour les inscriptions sa
 ns engagement)\n80 Euros : si vous vous inscrivez en envoyant des arrh
 es (40 Euros) à cette adresse : Isabelle FERCHAUD\n30 rue Dépé, Ré
 sidence Epernon, 33200 BORDEAUX.\nHébergement possible sur place en p
 révenant à l'avance : nuit 20 Euros, ptit déj 5 Euros, repas 15 Eur
 os. Lieu : Astéria, 33760 BELLEFOND (à 40 km du centre de BORDEAUX, 
 à 24 km de LIBOURNE) Co-voiturage possible.\n \nIsabelle FERCHAUD\nA
  50 ans… les expériences vécues en conscience croissante, les soli
 des formations en relations humaines et bien-être sont ma richesse. J
 e m'appuie sur une acuité psychique et sensorielle fine pour accompag
 ner les personnes. Une grande rigueur pose un cadre protecteur, une gr
 ande douceur et délicatesse vous accueillent. Mon seul programme est 
 celui de suivre l'énergie du groupe, d'écouter-ressentir et je crée
  au fur et à mesure.\n\n\nPour plus d'information, aller sur https://
 epanews.fr/events/vitalit-tantra-1
DTSTART;TZID=Europe/Paris:20130224T000000
DTEND;TZID=Europe/Paris:20130224T235900
CATEGORIES:33
LOCATION:BELLEFOND (à 35 km de BORDEAUX, à 24 km de LIBOURNE)
WEBSITE:http://www.isabelle-ferchaud.fr/article-le-tantra-pour-vivre-v
 ivants-112829908.html
URL:http://www.isabelle-ferchaud.fr/article-le-tantra-pour-vivre-vivan
 ts-112829908.html
CONTACT:06 87 88 25 58
ORGANIZER;CN="Isabelle FERCHAUD":https://epanews.fr/profile/IsabelleFE
 RCHAUD
ATTACH;FMTTYPE="image/jpeg":http://storage.ning.com/topology/rest/1.0/
 file/get/1662730636?profile=original
ATTENDEE;ROLE=REQ-PARTICIPANT;PARTSTAT=ACCEPTED;RSVP=TRUE;CN="Isabelle
  FERCHAUD":https://epanews.fr/profile/IsabelleFERCHAUD
END:VEVENT
END:VCALENDAR
