BEGIN:VCALENDAR
PRODID:NingEventWidget-v1
VERSION:2.0
METHOD:PUBLISH
BEGIN:VTIMEZONE
TZID:Europe/Paris
X-LIC-LOCATION:Europe/Paris
BEGIN:DAYLIGHT
TZOFFSETFROM:+0100
TZOFFSETTO:+0200
TZNAME:CEST
DTSTART:19700329T020000
RRULE:FREQ=YEARLY;BYMONTH=3;BYDAY=-1SU
END:DAYLIGHT
BEGIN:STANDARD
TZOFFSETFROM:+0200
TZOFFSETTO:+0100
TZNAME:CET
DTSTART:19701025T030000
RRULE:FREQ=YEARLY;BYMONTH=10;BYDAY=-1SU
END:STANDARD
END:VTIMEZONE
BEGIN:VEVENT
UID:2485226:Event:105255
DTSTAMP:20260424T092143Z
SUMMARY:visite guidÃ©e de la grande mosquÃ©e
DESCRIPTION:Visite guidÃ©e Ã  la grande mosquÃ©e de paris\n\nSamedi 18
  Septembre 2010 VISITE GUIDEE A LA GRANDE MOSQUEE DE PARIS\nvÃ©nez dÃ©
 couvrir l' historique de la mosquÃ©e, les traditions islamiques Ã  par
 is, la salle de priÃ©re et l'accueil chaleureux , aussi faire connaiss
 ance avec des nouvelles personnes au salon oriental autour de un cafÃ©
  ou thÃ© Ã  la menthe\n\nRDV samedi 18 Septembre Ã  15H45 Ã  la sortie
  du metro place Monge\nsortie place monge cotÃ© escalier mÃ©canique\n\
 nparticipation aux frais 5 euros entrÃ©e la mosquÃ©e + guide\nrÃ©serva
 tions auprÃ¨s de Raouf au plus tard jusque vendredi 17 septembre\n\npa
 r mail\n\nraouf.ali1@yahoo.fr\nou par sms au 0610553761\navec votre rÃ
 ©servation merci de laisser aussi votre numÃ©ro de portable\ncordialem
 ent Raouf\n\nPour plus d'information, aller sur https://epanews.fr/eve
 nts/visite-guidee-de-la-grande-1
DTSTART;TZID=Europe/Paris:20100918T154500
DTEND;TZID=Europe/Paris:20100918T174500
CATEGORIES:75005, paris
LOCATION:place monge
WEBSITE:
URL:
CONTACT:0610553761
ORGANIZER;CN=raouf:https://epanews.fr/profile/raouf
ATTACH;FMTTYPE="image/jpeg":
ATTENDEE;ROLE=REQ-PARTICIPANT;PARTSTAT=ACCEPTED;RSVP=TRUE;CN=raouf:htt
 ps://epanews.fr/profile/raouf
END:VEVENT
END:VCALENDAR
