BEGIN:VCALENDAR
PRODID:NingEventWidget-v1
VERSION:2.0
METHOD:PUBLISH
BEGIN:VTIMEZONE
TZID:Europe/Paris
X-LIC-LOCATION:Europe/Paris
BEGIN:DAYLIGHT
TZOFFSETFROM:+0100
TZOFFSETTO:+0200
TZNAME:CEST
DTSTART:19700329T020000
RRULE:FREQ=YEARLY;BYMONTH=3;BYDAY=-1SU
END:DAYLIGHT
BEGIN:STANDARD
TZOFFSETFROM:+0200
TZOFFSETTO:+0100
TZNAME:CET
DTSTART:19701025T030000
RRULE:FREQ=YEARLY;BYMONTH=10;BYDAY=-1SU
END:STANDARD
END:VTIMEZONE
BEGIN:VEVENT
UID:2485226:Event:2953922
DTSTAMP:20260424T171942Z
SUMMARY:visite du coeur d'uruguay Ã  gruissan
DESCRIPTION:La visite du coeur d'uruguay - le 11 mai 2018\nEntrÃ©e gra
 tuite - Places limitÃ©es\nSÃ©ances Ã  14h30 & 18h00\nPensez Ã  rÃ©serv
 er au 06.23.01.35.96 ou larcencieldupartage@gmail.com\nAu cours de cet
 te rencontre, vous pourrez approcher cette piÃ¨ce unique dont le mystÃ
 ¨re reste entier.\nPour en savoir plus : www.lecheminducoeur.org\ninfo
 rmations et inscriptions :06.23.01.35.96 ou larcencieldupartage@gmail.
 com\n\nLieu : Palais des congrÃ¨s\n13 avenue de narbonne 11430 gruissa
 n\n\nPour plus d'information, aller sur https://epanews.fr/events/visi
 te-du-coeur-d-uruguay-gruissan
DTSTART;TZID=Europe/Paris:20180511T143000
DTEND;TZID=Europe/Paris:20180511T170000
CATEGORIES:11
LOCATION:gruissan
WEBSITE:http://www.larcencieldupartage.org
URL:http://www.larcencieldupartage.org
CONTACT:0623013596
ORGANIZER;CN="L'arc en ciel du partage":https://epanews.fr/profile/Lar
 cencieldupartage
ATTACH;FMTTYPE="image/jpeg":http://storage.ning.com/topology/rest/1.0/
 file/get/1663738475?profile=original
ATTENDEE;ROLE=REQ-PARTICIPANT;PARTSTAT=ACCEPTED;RSVP=TRUE;CN="L'arc en
  ciel du partage":https://epanews.fr/profile/Larcencieldupartage
END:VEVENT
END:VCALENDAR
