BEGIN:VCALENDAR
PRODID:NingEventWidget-v1
VERSION:2.0
METHOD:PUBLISH
BEGIN:VTIMEZONE
TZID:Europe/Paris
X-LIC-LOCATION:Europe/Paris
BEGIN:DAYLIGHT
TZOFFSETFROM:+0100
TZOFFSETTO:+0200
TZNAME:CEST
DTSTART:19700329T020000
RRULE:FREQ=YEARLY;BYMONTH=3;BYDAY=-1SU
END:DAYLIGHT
BEGIN:STANDARD
TZOFFSETFROM:+0200
TZOFFSETTO:+0100
TZNAME:CET
DTSTART:19701025T030000
RRULE:FREQ=YEARLY;BYMONTH=10;BYDAY=-1SU
END:STANDARD
END:VTIMEZONE
BEGIN:VEVENT
UID:2485226:Event:2274945
DTSTAMP:20260421T145700Z
SUMMARY:Visite de Sri Sri Ravi Shankar Ã  Paris !
DESCRIPTION:Venez mÃ©diter avec l'un des plus grands maÃ®tres de l'Ind
 e\nTout comme une musique douce peut apaiser lâ€™esprit, la conscience
  Ã©largie dâ€™un Ãªtre peut inviter toutes les autres au mÃªme Ã©tat. 
 Câ€™est la raison pour laquelle les traditions spirituelles anciennes 
 ont tant louÃ© la prÃ©sence dâ€™un maÃ®tre.\nGandhi des temps modernes
  et maÃ®tre Ã  penser de lâ€™Inde, Sri Sri Ravi Shankar a su rassemble
 r 2,5 millions de personnes en 2006 pour une grande mÃ©ditation pour l
 a Paix. AprÃ¨s 9 ans, Sri Sri Ravi Shankar revient pour un contact dir
 ect et intimiste avec le public franÃ§ais Ã  la Maison de la MutualitÃ
 © Ã  Paris. Il partagera son expÃ©rience incomparable et ses outils po
 ur soutenir la Paix et le Bonheur dans chaque individu. Cette confÃ©re
 nce est une opportunitÃ© rare de vivre une expÃ©rience en prÃ©sence dâ
 €™un humaniste de stature internationale qui a dessinÃ© l'un des progr
 ammes de dÃ©veloppement personnel les plus populaires au monde : l'Art
  de Vivre.\n\n\nPour plus d'information, aller sur https://epanews.fr/
 events/visite-de-sri-sri-ravi-shankar-paris-2
DTSTART;TZID=Europe/Paris:20150425T190000
DTEND;TZID=Europe/Paris:20150425T210000
CATEGORIES:75
LOCATION:Maison de la mutualitÃ©
WEBSITE:http://www.artofliving.org/srisriinfrance
URL:http://www.artofliving.org/srisriinfrance
CONTACT:01 49 29 05 21
ORGANIZER;CN=Romane:https://epanews.fr/profile/Romane925
ATTACH;FMTTYPE="image/jpeg":http://storage.ning.com/topology/rest/1.0/
 file/get/1663362069?profile=original
ATTENDEE;ROLE=REQ-PARTICIPANT;PARTSTAT=ACCEPTED;RSVP=TRUE;CN=Romane:ht
 tps://epanews.fr/profile/Romane925
END:VEVENT
END:VCALENDAR
