BEGIN:VCALENDAR
PRODID:NingEventWidget-v1
VERSION:2.0
METHOD:PUBLISH
BEGIN:VTIMEZONE
TZID:Europe/Paris
X-LIC-LOCATION:Europe/Paris
BEGIN:DAYLIGHT
TZOFFSETFROM:+0100
TZOFFSETTO:+0200
TZNAME:CEST
DTSTART:19700329T020000
RRULE:FREQ=YEARLY;BYMONTH=3;BYDAY=-1SU
END:DAYLIGHT
BEGIN:STANDARD
TZOFFSETFROM:+0200
TZOFFSETTO:+0100
TZNAME:CET
DTSTART:19701025T030000
RRULE:FREQ=YEARLY;BYMONTH=10;BYDAY=-1SU
END:STANDARD
END:VTIMEZONE
BEGIN:VEVENT
UID:2485226:Event:1960759
DTSTAMP:20260422T035417Z
SUMMARY:De la femme soumise ou violentÃ©e Ã  la Femme-DÃ©esse respectÃ
 ©e et aimÃ©e
DESCRIPTION:\nDÃ©couvre comment grÃ¢ce Ã  la ThÃ©rapie Quantique par l
 e Son, la Couleur et les Mandalas sacrÃ©s tu peux te libÃ©rer des nomb
 reuses violences subies depuis l'enfance dans le \"fÃ©minin\" qui ont 
 crÃ©Ã©s tes programmes intÃ©rieurs de colÃ¨re, de dÃ©ni, de honte, de 
 culpabilitÃ©, d'injustice et de guerre contre l'aspect fÃ©minin du cor
 ps etÂ contre le masculin avec toutes lesÂ souffrances qui s'ensuivent
 ...  L'heure est maintenant venue de guÃ©rir le FÃ©minin blessÃ©, la f
 emme bafouÃ©e, soumise, rejetÃ©e et de retrouver l'Amour authentique d
 u Masculin afin de faire briller la Femme dans tous ses Ã©clats.  OBJE
 CTIFS & PROGRAMME -------------------------------------------  - Pourq
 uoi et comment guÃ©rir et libÃ©rer le FÃ©minin soumis ou violentÃ©,\n-
  Comment Ã©voluer du rejet et de la guerre, Ã  l'Amour authentique ave
 c le Masculin,\n- Comment ReNaitre Ã  la Femme-DÃ©esse aimÃ©e et respe
 ctÃ©e,\n- Questions-rÃ©ponses et tÃ©moignages concrets personnels,\nTo
 us tes amis non encore inscrits sont les bienvenus parmi nous.\nPour e
 n savoir plus et participer Ã  la confÃ©rence, Clique ici :\n---------
 ----------------------------------------------------------------------
 ----\nhttp://www.institutaora.com/Sqp-Devenir-Femme-Deesse.htm\n\nPour
  recevoir des produits quantiques gratuits de soins, inscrit-toi ici :
 ----------------------------------------------------------------------
 -----------------\nhttp://www.institutaora.com\nJe propose aussi des C
 onsultations tÃ©lÃ©phoniques de DÃ©codage et LibÃ©ration Rapide des MÃ
 ©moires Ã‰motionnelles Inconscientes par le Son :\nhttp://www.institut
 aora.com\n\nA bientot au plaisir de te retrouver ou de faire ta connai
 ssance.\nCoeurdialement\n:-) Serge\n\n\nPour plus d'information, aller
  sur https://epanews.fr/events/visioconf-rence-gratuite-de-la-femme-so
 umise-ou-violent-e-la
DTSTART;TZID=Europe/Paris:20140630T203000
DTEND;TZID=Europe/Paris:20140630T230000
CATEGORIES:tous
LOCATION:VisioconfÃ©rence gratuite sur internet
WEBSITE:http://www.institutaora.com/
URL:http://www.institutaora.com/
CONTACT:06 64 32 14 83
ORGANIZER;CN=stargaya:https://epanews.fr/profile/stargaya
ATTACH;FMTTYPE="image/jpeg":http://storage.ning.com/topology/rest/1.0/
 file/get/1663167806?profile=original
ATTENDEE;ROLE=REQ-PARTICIPANT;PARTSTAT=ACCEPTED;RSVP=TRUE;CN=stargaya:
 https://epanews.fr/profile/stargaya
END:VEVENT
END:VCALENDAR
