BEGIN:VCALENDAR
PRODID:NingEventWidget-v1
VERSION:2.0
METHOD:PUBLISH
BEGIN:VTIMEZONE
TZID:Europe/Paris
X-LIC-LOCATION:Europe/Paris
BEGIN:DAYLIGHT
TZOFFSETFROM:+0100
TZOFFSETTO:+0200
TZNAME:CEST
DTSTART:19700329T020000
RRULE:FREQ=YEARLY;BYMONTH=3;BYDAY=-1SU
END:DAYLIGHT
BEGIN:STANDARD
TZOFFSETFROM:+0200
TZOFFSETTO:+0100
TZNAME:CET
DTSTART:19701025T030000
RRULE:FREQ=YEARLY;BYMONTH=10;BYDAY=-1SU
END:STANDARD
END:VTIMEZONE
BEGIN:VEVENT
UID:2485226:Event:2632045
DTSTAMP:20260422T182950Z
SUMMARY:Visioconférence
DESCRIPTION:LA MEDITATION DE TRANSMISSION\n \n1 - constats sur la qua
 lité de notre conscience au quotidien\n2  - pourquoi méditer ?\n3 
 -  quelles sont les origines de la méditation de transmission ?\n4 
 - quelle est sa nature profonde ?\n5 - comment la pratiquer concrète
 ment ?\n\nPour plus d'information, aller sur https://epanews.fr/event
 s/visioconf-rence-3
DTSTART;TZID=Europe/Paris:20161025T203000
DTEND;TZID=Europe/Paris:20161025T220000
CATEGORIES:75
LOCATION:Internet
WEBSITE:http://www.portes-arc-en-ciel.fr/detail-planning-1908-patrick-
 lisch-la-meditation-de-transmission.html
URL:http://www.portes-arc-en-ciel.fr/detail-planning-1908-patrick-lisc
 h-la-meditation-de-transmission.html
CONTACT:
ORGANIZER;CN="Amis de Partage International":https://epanews.fr/profil
 e/AmisdePartageInternational
ATTACH;FMTTYPE="image/jpeg":http://storage.ning.com/topology/rest/1.0/
 file/get/1663579803?profile=original
ATTENDEE;ROLE=REQ-PARTICIPANT;PARTSTAT=ACCEPTED;RSVP=TRUE;CN="Amis de 
 Partage International":https://epanews.fr/profile/AmisdePartageInterna
 tional
END:VEVENT
END:VCALENDAR
