BEGIN:VCALENDAR
PRODID:NingEventWidget-v1
VERSION:2.0
METHOD:PUBLISH
BEGIN:VTIMEZONE
TZID:Europe/Paris
X-LIC-LOCATION:Europe/Paris
BEGIN:DAYLIGHT
TZOFFSETFROM:+0100
TZOFFSETTO:+0200
TZNAME:CEST
DTSTART:19700329T020000
RRULE:FREQ=YEARLY;BYMONTH=3;BYDAY=-1SU
END:DAYLIGHT
BEGIN:STANDARD
TZOFFSETFROM:+0200
TZOFFSETTO:+0100
TZNAME:CET
DTSTART:19701025T030000
RRULE:FREQ=YEARLY;BYMONTH=10;BYDAY=-1SU
END:STANDARD
END:VTIMEZONE
BEGIN:VEVENT
UID:2485226:Event:2582496
DTSTAMP:20260422T151718Z
SUMMARY:VisioconfÃ©rence
DESCRIPTION:ThÃ©ophanie ou la guidance des MaÃ®tres de Sagesse\nLâ€™Hi
 stoire explore, raconte et porte intrinsÃ¨quement en elle le voyage de
  lâ€™homme dans sa reconquÃªte intÃ©rieure. Lâ€™Histoire nomme lâ€™Ã©v
 olution de HumanitÃ©, dÃ©voile ses mÃ©moires collectives et dans une m
 oindre mesure nos mÃ©moires individuelles.Le thÃ¨meÂ : Â«Â ThÃ©ophanie
 * ou la guidance des Maitres de Sagesse Â» nous invite Ã  jalonner lâ€
 ™histoire de humanitÃ©, depuis ses origines (encore incertaines) Ã  no
 s jours avec en toile de fond, les Maitres de Sagesse, dÃ©voilÃ©s ou c
 achÃ©s et leurs enseignements de la sagesse Ã©ternelle.\n\nPour plus d
 'information, aller sur https://epanews.fr/events/visioconf-rence-2
DTSTART;TZID=Europe/Paris:20160322T203000
DTEND;TZID=Europe/Paris:20160322T223000
CATEGORIES:75
LOCATION:75
WEBSITE:http://www.portes-arc-en-ciel.fr/detail-planning-1796-pardeepa
 n-theophanie-ou-la-guidance-des-maitres-de-sagesse.html
URL:http://www.portes-arc-en-ciel.fr/detail-planning-1796-pardeepan-th
 eophanie-ou-la-guidance-des-maitres-de-sagesse.html
CONTACT:
ORGANIZER;CN="Amis de Partage International":https://epanews.fr/profil
 e/AmisdePartageInternational
ATTACH;FMTTYPE="image/jpeg":
ATTENDEE;ROLE=REQ-PARTICIPANT;PARTSTAT=ACCEPTED;RSVP=TRUE;CN="Amis de 
 Partage International":https://epanews.fr/profile/AmisdePartageInterna
 tional
END:VEVENT
END:VCALENDAR
