BEGIN:VCALENDAR
PRODID:NingEventWidget-v1
VERSION:2.0
METHOD:PUBLISH
BEGIN:VTIMEZONE
TZID:Europe/Paris
X-LIC-LOCATION:Europe/Paris
BEGIN:DAYLIGHT
TZOFFSETFROM:+0100
TZOFFSETTO:+0200
TZNAME:CEST
DTSTART:19700329T020000
RRULE:FREQ=YEARLY;BYMONTH=3;BYDAY=-1SU
END:DAYLIGHT
BEGIN:STANDARD
TZOFFSETFROM:+0200
TZOFFSETTO:+0100
TZNAME:CET
DTSTART:19701025T030000
RRULE:FREQ=YEARLY;BYMONTH=10;BYDAY=-1SU
END:STANDARD
END:VTIMEZONE
BEGIN:VEVENT
UID:2485226:Event:166221
DTSTAMP:20260422T062743Z
SUMMARY:Village solidaire Toulouse
DESCRIPTION:place Arnaud-Bernard, le village solidaire est en place dÃ
 ¨s samedi 4 dÃ©cembre et jusqu'au 12 dÃ©cembre inclus;\n\nproposant de
 s produits (jeux-jouets-nourriture-arts-vÃªtements-cadeaux ...prestati
 ons dans 1 esprit de solidaritÃ©\n\nce marchÃ© de Noel se veut une alt
 ernative solidaire pour ceux qui n'ont pas le nÃ©cessaire\n\nil est po
 ssible d'Ã©changer, de payer avec les sels, cocagne...\n\nPour plus d'
 information, aller sur https://epanews.fr/events/village-solidaire-tou
 louse
DTSTART;TZID=Europe/Paris:20101204T000000
DTEND;TZID=Europe/Paris:20101204T235900
CATEGORIES:31
LOCATION:TOULOUSE
WEBSITE:http://maps.google.com/
URL:http://maps.google.com/
CONTACT:
ORGANIZER:Mairie de TOULOUSE
ATTACH;FMTTYPE="image/jpeg":
ATTENDEE;ROLE=REQ-PARTICIPANT;PARTSTAT=ACCEPTED;RSVP=TRUE;CN="ERWAN MA
 TEL":https://epanews.fr/profile/DOMINIQUEMARS
END:VEVENT
END:VCALENDAR
