BEGIN:VCALENDAR
PRODID:NingEventWidget-v1
VERSION:2.0
METHOD:PUBLISH
BEGIN:VTIMEZONE
TZID:Europe/Paris
X-LIC-LOCATION:Europe/Paris
BEGIN:DAYLIGHT
TZOFFSETFROM:+0100
TZOFFSETTO:+0200
TZNAME:CEST
DTSTART:19700329T020000
RRULE:FREQ=YEARLY;BYMONTH=3;BYDAY=-1SU
END:DAYLIGHT
BEGIN:STANDARD
TZOFFSETFROM:+0200
TZOFFSETTO:+0100
TZNAME:CET
DTSTART:19701025T030000
RRULE:FREQ=YEARLY;BYMONTH=10;BYDAY=-1SU
END:STANDARD
END:VTIMEZONE
BEGIN:VEVENT
UID:2485226:Event:190098
DTSTAMP:20260420T191539Z
SUMMARY:Viens vivre ma vie d'aveugle ! atelier-spectacle
DESCRIPTION:Venez faire un parcours de sens déroutant\nen étant vous
 -même aveugle :\n(atelier, buvette, spectacle, repas en aveugle, soir
 ée festive)\nde 14h à minuit.\nEntrée : atelier, spectacle : 12 eur
 os\nDiner en aveugle, sur réservation : 18 euros\nRéservation : 06 1
 2 49 33 74\nhttp://l-illusion-du-handicap.over-blog.com/\nOrganisé pa
 r l'association Nashema\npour soutenir le tournage d'un film sur le ha
 ndicap.\n\nPour plus d'information, aller sur https://epanews.fr/event
 s/viens-vivre-ma-vie-daveugle
DTSTART;TZID=Europe/Paris:20110205T000000
DTEND;TZID=Europe/Paris:20110205T235900
CATEGORIES:84
LOCATION:Avignon
WEBSITE:http://l-illusion-du-handicap.over-blog.com/
URL:http://l-illusion-du-handicap.over-blog.com/
CONTACT:06 12 49 33 74
ORGANIZER:Jean-Pierre Brouillot
ATTACH;FMTTYPE="image/jpeg":
ATTENDEE;ROLE=REQ-PARTICIPANT;PARTSTAT=TENTATIVE;RSVP=TRUE;CN=Prajna13
 :https://epanews.fr/profile/prajna13
END:VEVENT
END:VCALENDAR
