BEGIN:VCALENDAR
PRODID:NingEventWidget-v1
VERSION:2.0
METHOD:PUBLISH
BEGIN:VTIMEZONE
TZID:Europe/Paris
X-LIC-LOCATION:Europe/Paris
BEGIN:DAYLIGHT
TZOFFSETFROM:+0100
TZOFFSETTO:+0200
TZNAME:CEST
DTSTART:19700329T020000
RRULE:FREQ=YEARLY;BYMONTH=3;BYDAY=-1SU
END:DAYLIGHT
BEGIN:STANDARD
TZOFFSETFROM:+0200
TZOFFSETTO:+0100
TZNAME:CET
DTSTART:19701025T030000
RRULE:FREQ=YEARLY;BYMONTH=10;BYDAY=-1SU
END:STANDARD
END:VTIMEZONE
BEGIN:VEVENT
UID:2485226:Event:600996
DTSTAMP:20260423T142243Z
SUMMARY:Vidéo Conférence la loi d'attraction au point zéro
DESCRIPTION:VIDEO CONFERENCE DU VENDREDI 25 NOVEMBRE 20H30 HEURE DE PA
 RIS\nPar Nathalie Berthalon conscience-unitaire.com\n \nLa loi d’at
 traction au point zéro : faire coexister la loi d’attraction et la
  loi d’amour dans l’instant présent.\n \n Aimer le germe de lum
 ière qui est dans ses peurs pour co-créer avec amour. Co-créer dans
  la matière par la Lumière : se relier à son Essence Divine et à 
 ses guides de Lumière pour attirer des expériences de vie qui dével
 oppent notre pouvoir divin. Reprogrammer ses mémoires cellulaires pou
 r retrouver son pouvoir créateur par la méditation Lumière, le chan
 neling, la kinésiologie vibratoire et les soins Esséniens (appositio
 n de mains et massages par points).\nPour vous inscrire :\nhttp://www
 .terresdamours.com/webConf.php\n \n\nPour plus d'information, aller s
 ur https://epanews.fr/events/videoconference-la-loi-d-attraction-au-po
 int-zero
DTSTART;TZID=Europe/Paris:20111125T203000
DTEND;TZID=Europe/Paris:20111125T213000
CATEGORIES:tous
LOCATION:De chez vous
WEBSITE:
URL:
CONTACT:
ORGANIZER;CN=NATHALIE:https://epanews.fr/profile/BERTHALONNATHALIE
ATTACH;FMTTYPE="image/jpeg":
ATTENDEE;ROLE=REQ-PARTICIPANT;PARTSTAT=ACCEPTED;RSVP=TRUE;CN=NATHALIE:
 https://epanews.fr/profile/BERTHALONNATHALIE
END:VEVENT
END:VCALENDAR
