BEGIN:VCALENDAR
PRODID:NingEventWidget-v1
VERSION:2.0
METHOD:PUBLISH
BEGIN:VTIMEZONE
TZID:Europe/Paris
X-LIC-LOCATION:Europe/Paris
BEGIN:DAYLIGHT
TZOFFSETFROM:+0100
TZOFFSETTO:+0200
TZNAME:CEST
DTSTART:19700329T020000
RRULE:FREQ=YEARLY;BYMONTH=3;BYDAY=-1SU
END:DAYLIGHT
BEGIN:STANDARD
TZOFFSETFROM:+0200
TZOFFSETTO:+0100
TZNAME:CET
DTSTART:19701025T030000
RRULE:FREQ=YEARLY;BYMONTH=10;BYDAY=-1SU
END:STANDARD
END:VTIMEZONE
BEGIN:VEVENT
UID:2485226:Event:2522877
DTSTAMP:20260421T065323Z
SUMMARY:vice versa film et jeu
DESCRIPTION:Mardi 8 dÃ©cembre Â 19h00\nSoirÃ©e FilmÂ : VICE VERSA\nUne
  soirÃ©e pour explorer la conscience Ã©motionnelle.\nCe film initiatiq
 ue de la communication non violente, vous donne un avant-gout des roua
 ges internes des Ã©mois de notre pensÃ©\nSous forme ludique lâ€™auteur
  sait nous faire vivre ce qui nous demande des annÃ©es dâ€™explication
 s dans nos facultÃ©s psychologiques\nLa ludicitÃ© du film nous permet 
 de restÃ© attentif Ã  tous ces messages de communicationÂ Â Â Â Â Â Â 
 Â Â Â Â Â Â \nDans le thÃ¨me Plaisir-Rencontre-Evolution positiveÂ ; Â
  on vous propose en mÃªme temps que le repas partagÃ© (Plaisir oblige)
 , une Ã©bauche de jeu Vice-Versa\nPourquoi un jeuÂ : CrÃ©er un jeu ser
 a le bÃ©nÃ©fice de la comprÃ©hension du film dâ€™une maniÃ¨re ludique.
  Le jeu Â sera la pratique des principes et les rÃ¨gles Ã©voquÃ© dans 
 le film. Trouver les rÃ¨gles câ€™est comprendre les rouages directeurs
  de la communication quâ€™impliquent la tÃªte, le corps et les Ã©motio
 ns.\nAussi, un grand espoir Â Ã  lâ€™idÃ©e de le jouer avec les enfant
 s des Ã©coles libres ou en voie deâ€¦\nÂ Une soirÃ©e pour explorer les
  Ã©motions.\n 1er parti : Â Â Â Â Â Â Â Â Â Â Â Â Â Â Â Â Â Â Â Â Â Â 
 Â  Film Vice-Versa\n2eme partie: Â Â Â Â Â Â Â Â Â Â Â Â Â Â Â Â  DÃ®n
 er partages des petits plats apportÃ©s par chacun et explorations des 
 Ã©motions libres et ludiques. Lieux : Chez Alma Fillette MignonetteÂ \
 nVeuillez rÃ©servez votre place. Au total ,15 places disponiblesÂ \nDe
 mandez le code SVP\n\nPour plus d'information, aller sur https://epane
 ws.fr/events/vice-versa-film-et-jeu
DTSTART;TZID=Europe/Paris:20151208T190000
DTEND;TZID=Europe/Paris:20151208T220000
CATEGORIES:75
LOCATION:paris
WEBSITE:
URL:
CONTACT:06 63 07 32 62
ORGANIZER;CN="Clem Ange":https://epanews.fr/profile/ClementeAngelo
ATTACH;FMTTYPE="image/jpeg":http://storage.ning.com/topology/rest/1.0/
 file/get/1663499374?profile=original
ATTENDEE;ROLE=REQ-PARTICIPANT;PARTSTAT=ACCEPTED;RSVP=TRUE;CN="Clem Ang
 e":https://epanews.fr/profile/ClementeAngelo
END:VEVENT
END:VCALENDAR
