BEGIN:VCALENDAR
PRODID:NingEventWidget-v1
VERSION:2.0
METHOD:PUBLISH
BEGIN:VTIMEZONE
TZID:Europe/Paris
X-LIC-LOCATION:Europe/Paris
BEGIN:DAYLIGHT
TZOFFSETFROM:+0100
TZOFFSETTO:+0200
TZNAME:CEST
DTSTART:19700329T020000
RRULE:FREQ=YEARLY;BYMONTH=3;BYDAY=-1SU
END:DAYLIGHT
BEGIN:STANDARD
TZOFFSETFROM:+0200
TZOFFSETTO:+0100
TZNAME:CET
DTSTART:19701025T030000
RRULE:FREQ=YEARLY;BYMONTH=10;BYDAY=-1SU
END:STANDARD
END:VTIMEZONE
BEGIN:VEVENT
UID:2485226:Event:2982402
DTSTAMP:20260425T034159Z
SUMMARY:VibrAtelier : \"Sortir des relations toxiques pour guérir et 
 grandir\" avec Anne-Laure AGAPÉ les 28/09 et 19/10/2018.
DESCRIPTION:Bande annonce de l'événement :\nhttps://youtu.be/eFqoLBX
 bVvc\n\nUn atelier pour sortir définitivement des relations toxiques 
 qui sera animé par Anne-Laure LE ROUX AGAPÉ, créatrice de la métho
 de AGAPÉ©® qui se divisera en deux parties indissociables de 2 heur
 es chacune séparées de 21 jours permettant un travail d’intégrati
 on et de conscientisation.\nUn soin basé sur la méthode Agapé vous 
 sera proposé à la fin de la 1ère partie pour accompagner profondém
 ent le processus de libération et de changement.\nTÉLÉCHARGEZ LE PR
 OGRAMME\nhttps://soins-collectifs-orion.com/wp-content/uploads/2018/06
 /Programme-Atelier-Sortir-des-relations-toxiques-vdef.pdf\n \nINSCRIP
 TIONS\nhttps://soins-collectifs-orion.com/boutique/formation/atelier-d
 eveloppement-personnel-sortir-des-relations-toxiques-pour-guerir-et-gr
 andir-avec-anne-laure-agape-a-21h/\n\nPour plus d'information, aller s
 ur https://epanews.fr/events/vibratelier-sortir-des-relations-toxiques
 -pour-gu-rir-et-grandir
DTSTART;TZID=Europe/Paris:20180928T210000
DTEND;TZID=Europe/Paris:20180928T233000
CATEGORIES:tous
LOCATION:De Chez vous en direct
WEBSITE:https://soins-collectifs-orion.com/boutique/formation/atelier-
 developpement-personnel-sortir-des-relations-toxiques-pour-guerir-et-g
 randir-avec-anne-laure-agape-a-21h/
URL:https://soins-collectifs-orion.com/boutique/formation/atelier-deve
 loppement-personnel-sortir-des-relations-toxiques-pour-guerir-et-grand
 ir-avec-anne-laure-agape-a-21h/
CONTACT:0652921300
ORGANIZER:Didier COMBE
ATTACH;FMTTYPE="image/jpeg":http://storage.ning.com/topology/rest/1.0/
 file/get/1663761680?profile=original
ATTENDEE;ROLE=REQ-PARTICIPANT;PARTSTAT=ACCEPTED;RSVP=TRUE;CN=Didier:ht
 tps://epanews.fr/profile/Didier
END:VEVENT
END:VCALENDAR
