BEGIN:VCALENDAR
PRODID:NingEventWidget-v1
VERSION:2.0
METHOD:PUBLISH
BEGIN:VTIMEZONE
TZID:Europe/Paris
X-LIC-LOCATION:Europe/Paris
BEGIN:DAYLIGHT
TZOFFSETFROM:+0100
TZOFFSETTO:+0200
TZNAME:CEST
DTSTART:19700329T020000
RRULE:FREQ=YEARLY;BYMONTH=3;BYDAY=-1SU
END:DAYLIGHT
BEGIN:STANDARD
TZOFFSETFROM:+0200
TZOFFSETTO:+0100
TZNAME:CET
DTSTART:19701025T030000
RRULE:FREQ=YEARLY;BYMONTH=10;BYDAY=-1SU
END:STANDARD
END:VTIMEZONE
BEGIN:VEVENT
UID:2485226:Event:2648924
DTSTAMP:20260421T132200Z
SUMMARY:Vers une meilleure gestion Ã©motionnelle
DESCRIPTION:Communessence et Comunissons (Carole Comunissons) sâ€™unis
 sent pour vous proposer un atelier sur la gestion Ã©motionnelle, le te
 mps dâ€™une journÃ©e ! La journÃ©e sera rythmÃ©e par des exercices de 
 musicothÃ©rapie (alliant sons, rythmes, musiqueâ€¦) qui vous prÃ©parer
 ont Ã  rencontrer nos chevaux en pleine conscience. Au cours de cet at
 elier, nous aborderons les questions suivantes : Qu'est-ce qu'une Ã©mo
 tion? Quelles Ã©motions ressentez-vous? Pourquoi reconnaÃ®tre et accep
 ter nos Ã©motions? Ã€ quoi servent-elles?Â Cet atelier se dÃ©roulera Ã
   Mareil sur Mauldre, dans les Yvelines. Tarif : 170â‚¬ par personne d
 ont 10â‚¬ seront reversÃ©s Ã  lâ€™association Treck&Co. Le dÃ©jeuner n
 â€™est pas compris dans le tarif. RÃ©servation obligatoire sur commune
 ssence@gmail.com\n\nPour plus d'information, aller sur https://epanews
 .fr/events/vers-une-meilleure-gestion-motionnelle
DTSTART;TZID=Europe/Paris:20160604T093000
DTEND;TZID=Europe/Paris:20160604T173000
CATEGORIES:78
LOCATION:Mareil sur Mauldre
WEBSITE:http://www.communessence.com
URL:http://www.communessence.com
CONTACT:
ORGANIZER:Communessence et Comunissons
ATTACH;FMTTYPE="image/jpeg":http://storage.ning.com/topology/rest/1.0/
 file/get/1663568577?profile=original
ATTENDEE;ROLE=REQ-PARTICIPANT;PARTSTAT=ACCEPTED;RSVP=TRUE;CN=Communess
 ence:https://epanews.fr/profile/Communessence
END:VEVENT
END:VCALENDAR
