BEGIN:VCALENDAR
PRODID:NingEventWidget-v1
VERSION:2.0
METHOD:PUBLISH
BEGIN:VTIMEZONE
TZID:Europe/Paris
X-LIC-LOCATION:Europe/Paris
BEGIN:DAYLIGHT
TZOFFSETFROM:+0100
TZOFFSETTO:+0200
TZNAME:CEST
DTSTART:19700329T020000
RRULE:FREQ=YEARLY;BYMONTH=3;BYDAY=-1SU
END:DAYLIGHT
BEGIN:STANDARD
TZOFFSETFROM:+0200
TZOFFSETTO:+0100
TZNAME:CET
DTSTART:19701025T030000
RRULE:FREQ=YEARLY;BYMONTH=10;BYDAY=-1SU
END:STANDARD
END:VTIMEZONE
BEGIN:VEVENT
UID:2485226:Event:581903
DTSTAMP:20260422T234155Z
SUMMARY:Vers une écologie sacrée
DESCRIPTION:CONFÉRENCE - Il émerge chez un nombre toujours plus éle
 vé d'êtres humains l'idée que notre planète Terre est vivante, int
 elligente, capable de maîtriser son propre ordre. Cette prise de cons
 cience dépasse le cadre écologique traditionnel et nous amène à no
 us interroger sur le rôle de l'homme. Ses attitudes et prises de posi
 tion étant arrivées aujourd'hui à un stade conflictuel avec le cadr
 e naturel, ne serait-il pas légitime d'anticiper notre comportement, 
 avant d'imposer nos agressions polluantes à la Nature ? N'y aurait-il
  pas en l'homme une structure capable de vivre idéalement en harmonie
  avec cette Nature, et un comportement capable de faire surgir cette s
 tructure en nous ?\nEntrée libre\n\nPour plus d'information, aller su
 r https://epanews.fr/events/vers-une-cologie-sacr-e
DTSTART;TZID=Europe/Paris:20111123T200000
DTEND;TZID=Europe/Paris:20111123T220000
CATEGORIES:31
LOCATION:TOULOUSE
WEBSITE:http://www.rose-croix-d-or.org
URL:http://www.rose-croix-d-or.org
CONTACT:06 88 76 10 98
ORGANIZER:Ecole Gnostique de la Rose-Croix d'Or
ATTACH;FMTTYPE="image/jpeg":http://storage.ning.com/topology/rest/1.0/
 file/get/1662484661?profile=original
ATTENDEE;ROLE=REQ-PARTICIPANT;PARTSTAT=ACCEPTED;RSVP=TRUE;CN="Christia
 n Malgras":https://epanews.fr/profile/ChristianMalgras
END:VEVENT
END:VCALENDAR
