BEGIN:VCALENDAR
PRODID:NingEventWidget-v1
VERSION:2.0
METHOD:PUBLISH
BEGIN:VTIMEZONE
TZID:Europe/Paris
X-LIC-LOCATION:Europe/Paris
BEGIN:DAYLIGHT
TZOFFSETFROM:+0100
TZOFFSETTO:+0200
TZNAME:CEST
DTSTART:19700329T020000
RRULE:FREQ=YEARLY;BYMONTH=3;BYDAY=-1SU
END:DAYLIGHT
BEGIN:STANDARD
TZOFFSETFROM:+0200
TZOFFSETTO:+0100
TZNAME:CET
DTSTART:19701025T030000
RRULE:FREQ=YEARLY;BYMONTH=10;BYDAY=-1SU
END:STANDARD
END:VTIMEZONE
BEGIN:VEVENT
UID:2485226:Event:2950077
DTSTAMP:20260424T184523Z
SUMMARY:Vernissage de la nouvelle Exposition : Madonnes et Amazones
DESCRIPTION:A noter dès à présent sur votre agenda :\nPariSoleil ac
 cueille la toute nouvelle exposition\nMadones et Amazones\nFemmes du m
 onde, par Aurélie Pudrajas, globe-croqueuse, illustratrice et artiste
 .\nInfos complémentaires à venir sur le site http://www.lejardindugr
 aal.fr\nVous êtes attendus à partir de 18h !\n\nPour plus d'informat
 ion, aller sur https://epanews.fr/events/vernissage-de-la-nouvelle-exp
 osition-madonnes-et-amazones
DTSTART;TZID=Europe/Paris:20180502T180000
DTEND;TZID=Europe/Paris:20180502T203000
CATEGORIES:75
LOCATION:Paris 11ème
WEBSITE:http://lejardindugraal.fr/programmation-culturelle/vernissage-
 de-la-nouvelle-exposition-madonnes-et-amazones/
URL:http://lejardindugraal.fr/programmation-culturelle/vernissage-de-l
 a-nouvelle-exposition-madonnes-et-amazones/
CONTACT:0143149891
ORGANIZER;CN="PariSoleil 75011":https://epanews.fr/profile/LeJardinduG
 raalParis
ATTACH;FMTTYPE="image/jpeg":http://storage.ning.com/topology/rest/1.0/
 file/get/1663738470?profile=original
ATTENDEE;ROLE=REQ-PARTICIPANT;PARTSTAT=ACCEPTED;RSVP=TRUE;CN="PariSole
 il 75011":https://epanews.fr/profile/LeJardinduGraalParis
END:VEVENT
END:VCALENDAR
