BEGIN:VCALENDAR
PRODID:NingEventWidget-v1
VERSION:2.0
METHOD:PUBLISH
BEGIN:VTIMEZONE
TZID:Europe/Paris
X-LIC-LOCATION:Europe/Paris
BEGIN:DAYLIGHT
TZOFFSETFROM:+0100
TZOFFSETTO:+0200
TZNAME:CEST
DTSTART:19700329T020000
RRULE:FREQ=YEARLY;BYMONTH=3;BYDAY=-1SU
END:DAYLIGHT
BEGIN:STANDARD
TZOFFSETFROM:+0200
TZOFFSETTO:+0100
TZNAME:CET
DTSTART:19701025T030000
RRULE:FREQ=YEARLY;BYMONTH=10;BYDAY=-1SU
END:STANDARD
END:VTIMEZONE
BEGIN:VEVENT
UID:2485226:Event:2675227
DTSTAMP:20260421T130834Z
SUMMARY:Vernissage de l'exposition « Histoire de regards »
DESCRIPTION:Histoire de regards\nAu-delà de son histoire mouvementée
 , le pays cathare offre un spectacle où le fantastique colore le quot
 idien. Du coucher du soleil sur les pierres mégalithiques à la Voie 
 lactée qui enveloppe d’un voile mystérieux les vestiges des châte
 aux cathares, des gouttelettes de brume qui caressent le paysage monta
 gneux aux lueurs matinales qui illuminent le cloître des abbayes, la 
 diversité des compositions visuelles tend à rapprocher le visiteur d
 e l’Infini.\nL’exposition « Histoire de regards » vous propose
  un petit échantillon photographique, une invitation au voyage dans c
 es paysages et lieux chargés d’histoire. Deux regards se complèten
 t et s’entrecroisent pour vous convier à découvrir et parcourir le
 s terres cathares.\nValérie Guillon         www.valerieguillon-p
 hotographie.com\nPhilippe Contalwww.cathares.org\n\nPour plus d'inform
 ation, aller sur https://epanews.fr/events/vernissage-de-l-exposition-
 histoire-de-regards
DTSTART;TZID=Europe/Paris:20160716T180000
DTEND;TZID=Europe/Paris:20160716T220000
CATEGORIES:11
LOCATION:Office de Tourisme de Cucugnan
WEBSITE:http://www.cathares.org/?l=cucugnan
URL:http://www.cathares.org/?l=cucugnan
CONTACT:
ORGANIZER;CN="Philippe Contal":https://epanews.fr/profile/PhilippeCont
 al34
ATTACH;FMTTYPE="image/jpeg":http://storage.ning.com/topology/rest/1.0/
 file/get/1663584257?profile=original
ATTENDEE;ROLE=REQ-PARTICIPANT;PARTSTAT=ACCEPTED;RSVP=TRUE;CN="Philippe
  Contal":https://epanews.fr/profile/PhilippeContal34
END:VEVENT
END:VCALENDAR
