BEGIN:VCALENDAR
PRODID:NingEventWidget-v1
VERSION:2.0
METHOD:PUBLISH
BEGIN:VTIMEZONE
TZID:Europe/Paris
X-LIC-LOCATION:Europe/Paris
BEGIN:DAYLIGHT
TZOFFSETFROM:+0100
TZOFFSETTO:+0200
TZNAME:CEST
DTSTART:19700329T020000
RRULE:FREQ=YEARLY;BYMONTH=3;BYDAY=-1SU
END:DAYLIGHT
BEGIN:STANDARD
TZOFFSETFROM:+0200
TZOFFSETTO:+0100
TZNAME:CET
DTSTART:19701025T030000
RRULE:FREQ=YEARLY;BYMONTH=10;BYDAY=-1SU
END:STANDARD
END:VTIMEZONE
BEGIN:VEVENT
UID:2485226:Event:2313855
DTSTAMP:20260423T234909Z
SUMMARY:Vendredi du Bonheur
DESCRIPTION:BONSOIR A TOUTES ET TOUS!\nÂ \nNous voilÃ  dÃ©jÃ  au mois 
 de mai, ce fameux mois oÃ¹ l'on fait ce qu'il nous plaÃ®t...\nÂ \nAlor
 s pour l'occasion nous proposons le 08 mai un Vendredi du Bonheur \"So
 irÃ©e Bajhans\", pour cÃ©lÃ©brer ensemble et chanter en cÅ“ur des chan
 ts de la tradition indienne.\nÂ \nC'est une invitation comme toujours 
 au partage, Ã  la musique, Ã  la joie, Ã  l'humour et Ã  la simplicitÃ
 ©!\nÂ \nVenez comme vous Ãªtes, petits et grands.\nÂ \nA partir de 19h
 , Terre d'Omhe vous ouvre ses portes pour un repas-pique-nique oÃ¹ cha
 cun amÃ¨nera, pour son plaisir, un plat Ã  offrir.Â \nPour ceux qui so
 uhaitent seulement Ãªtre lÃ  aprÃ¨s le repas, bienvenu aprÃ¨s le pique
 -nique!\nÂ \nParticipation: 8 euros.\n\n\nDans la joie de vous accueil
 lir, de dÃ©guster et de chanter Ã  vos cÃ´tÃ©s!\nÂ \nHervÃ©, Oriana et
  Nayam.\nÂ \n\nPour plus d'information, aller sur https://epanews.fr/e
 vents/vendredi-du-bonheur-1
DTSTART;TZID=Europe/Paris:20150508T190000
DTEND;TZID=Europe/Paris:20150508T230000
CATEGORIES:82
LOCATION:Lieu-dit Frabel
WEBSITE:http://terredomhe.jimdo.com/l-ecole-du-coeur/
URL:http://terredomhe.jimdo.com/l-ecole-du-coeur/
CONTACT:05 63 31 09 96
ORGANIZER:Oriana et HervÃ©
ATTACH;FMTTYPE="image/jpeg":http://storage.ning.com/topology/rest/1.0/
 file/get/1663389554?profile=original
ATTENDEE;ROLE=REQ-PARTICIPANT;PARTSTAT=ACCEPTED;RSVP=TRUE;CN="Mireille
  Housset":https://epanews.fr/profile/Mireille630
END:VEVENT
END:VCALENDAR
