BEGIN:VCALENDAR
PRODID:NingEventWidget-v1
VERSION:2.0
METHOD:PUBLISH
BEGIN:VTIMEZONE
TZID:Europe/Paris
X-LIC-LOCATION:Europe/Paris
BEGIN:DAYLIGHT
TZOFFSETFROM:+0100
TZOFFSETTO:+0200
TZNAME:CEST
DTSTART:19700329T020000
RRULE:FREQ=YEARLY;BYMONTH=3;BYDAY=-1SU
END:DAYLIGHT
BEGIN:STANDARD
TZOFFSETFROM:+0200
TZOFFSETTO:+0100
TZNAME:CET
DTSTART:19701025T030000
RRULE:FREQ=YEARLY;BYMONTH=10;BYDAY=-1SU
END:STANDARD
END:VTIMEZONE
BEGIN:VEVENT
UID:2485226:Event:2150725
DTSTAMP:20260422T140328Z
SUMMARY:veillée oracle
DESCRIPTION:Tirage de votre oracle dans les magnifiques jeux de cartes
  \"Cercle d'Alliance\", Féminitude, l'Enfant Intérieur, Terre de lo
 uve ..\n\n\n\nIl ne s'agit pas de prédire l'avenir mais de laisser l'
 oracle vous parler, vous diffuser ses messages, vous apporter un écla
 irage sur des situations de votre vie et écouter avec le coeur ce que
  votre Etre intérieur aspire à vous dire sur des questions que vous 
 vous posez.\nC'est aussi une belle opportunité pour s’interroger su
 r les bagages obsolètes à déposer afin de s'alléger pour la nouvel
 le année. Cette veillée se déroulera au rythme de Cercles de partag
 e d'intuition, voyage au tambour et activation de vos intentions.Cette
  rencontre sera guidée par Elikia Art thérapeute et femme médecineP
 our en savoir plusss sur Elikia et ses activités : http://elikia.cana
 lblog.com/\nParticipation 20 €\nPour vous inscrire ou poser vos ques
 tions auxquelles je me ferai une joie d'y répondre au mieux, appelez-
 moi au 06 04 41 44 60\n\nPour plus d'information, aller sur https://ep
 anews.fr/events/veill-e-oracle
DTSTART;TZID=Europe/Paris:20150123T200000
DTEND;TZID=Europe/Paris:20150123T230000
CATEGORIES:56, 29, 22, 35, 44
LOCATION:Floressence
WEBSITE:http://elikia.canalblog.com
URL:http://elikia.canalblog.com
CONTACT:0604414460
ORGANIZER;CN=coeurdechamane:https://epanews.fr/profile/coeurdechamane
ATTACH;FMTTYPE="image/jpeg":http://storage.ning.com/topology/rest/1.0/
 file/get/1663275206?profile=original
ATTENDEE;ROLE=REQ-PARTICIPANT;PARTSTAT=ACCEPTED;RSVP=TRUE;CN=coeurdech
 amane:https://epanews.fr/profile/coeurdechamane
END:VEVENT
END:VCALENDAR
