BEGIN:VCALENDAR
PRODID:NingEventWidget-v1
VERSION:2.0
METHOD:PUBLISH
BEGIN:VTIMEZONE
TZID:Europe/Paris
X-LIC-LOCATION:Europe/Paris
BEGIN:DAYLIGHT
TZOFFSETFROM:+0100
TZOFFSETTO:+0200
TZNAME:CEST
DTSTART:19700329T020000
RRULE:FREQ=YEARLY;BYMONTH=3;BYDAY=-1SU
END:DAYLIGHT
BEGIN:STANDARD
TZOFFSETFROM:+0200
TZOFFSETTO:+0100
TZNAME:CET
DTSTART:19701025T030000
RRULE:FREQ=YEARLY;BYMONTH=10;BYDAY=-1SU
END:STANDARD
END:VTIMEZONE
BEGIN:VEVENT
UID:2485226:Event:1726971
DTSTAMP:20260423T132432Z
SUMMARY:Vacances Tantriques d'Ã©tÃ© 3-9 aoÃ»t 2014-au 20 juillet,il ma
 nque deux hommes!
DESCRIPTION:Les hommes! au 20 juillet, il manque deux hommes! N'hÃ©sit
 ez pas Ã  nous appeler...\nCe stage est une invitation Ã  vivre! Explo
 rer nos dÃ©sirs et nos limites en conscience et laisser Ã©merger notre
  vulnÃ©rabilitÃ© et notre joie. Il est question de laisser vivre le dÃ
 ©sir et de se rassurer sur sa nature, et sur le fait que nous ne somme
 s ni seul, ni anormal, ni monstrueux. Laisser vivre son fÃ©minin et so
 n masculin. On ne peut rencontrer quâ€™Ã  partir de son coeur. Ressent
 ir le sacrÃ©, cette partie qui nous relie tous... Animation, 345â‚¬ + 
 pension complÃ¨te de 42 Ã  75â‚¬.\n\nPour plus d'information, aller su
 r https://epanews.fr/events/vacances-tantriques-d-t-3-9-ao-t-2014
DTSTART;TZID=Europe/Paris:20140803T210000
DTEND;TZID=Europe/Paris:20140809T140000
CATEGORIES:tous
LOCATION:Devesset - le Village du Lac (07)
WEBSITE:http://terrestantriques.blogspot.fr/p/vacances-tantriques-au-v
 illage-du-lac-07.html
URL:http://terrestantriques.blogspot.fr/p/vacances-tantriques-au-villa
 ge-du-lac-07.html
CONTACT:0664273147 - 0475537164
ORGANIZER:Dominique Giral & Odile Guillet
ATTACH;FMTTYPE="image/jpeg":http://storage.ning.com/topology/rest/1.0/
 file/get/1662852365?profile=original
ATTENDEE;ROLE=REQ-PARTICIPANT;PARTSTAT=ACCEPTED;RSVP=TRUE;CN="Dominiqu
 e Giral":https://epanews.fr/profile/dominique
END:VEVENT
END:VCALENDAR
