BEGIN:VCALENDAR
PRODID:NingEventWidget-v1
VERSION:2.0
METHOD:PUBLISH
BEGIN:VTIMEZONE
TZID:Europe/Paris
X-LIC-LOCATION:Europe/Paris
BEGIN:DAYLIGHT
TZOFFSETFROM:+0100
TZOFFSETTO:+0200
TZNAME:CEST
DTSTART:19700329T020000
RRULE:FREQ=YEARLY;BYMONTH=3;BYDAY=-1SU
END:DAYLIGHT
BEGIN:STANDARD
TZOFFSETFROM:+0200
TZOFFSETTO:+0100
TZNAME:CET
DTSTART:19701025T030000
RRULE:FREQ=YEARLY;BYMONTH=10;BYDAY=-1SU
END:STANDARD
END:VTIMEZONE
BEGIN:VEVENT
UID:2485226:Event:85963
DTSTAMP:20260423T111155Z
SUMMARY:Vacances et Ã©panouissement
DESCRIPTION:Vacances crÃ©atives, inventives, conviviales et pas (trop)
  chÃ¨res\nNotre association s'est fixÃ© pour missions de :\nâ€¢ propos
 er aux cÃ©libataires comme aux familles, avec ou sans enfants, un envi
 ronnement propice aux loisirs, Ã  lâ€™amusement mais aussi au repos ;\
 nâ€¢ faire Ã©merger les capacitÃ©s de crÃ©ation, de dÃ©veloppement, de
  communication que chacun de nous possÃ¨de ;\nâ€¢ assurer un cadre de 
 sÃ©curitÃ©, de respect mutuel, de sÃ©rieux ;\nâ€¢ concilier la qualitÃ
 © des prestations avec des prix bas, accessibles Ã  tous.\nAussi notre
  sÃ©jour comprend-il :\nâ€¢ une offre dâ€™hÃ©bergement assortie de la 
 participation gratuite aux ateliers et activitÃ©s ludiques ;\nâ€¢ une 
 option demi-pension, permettant de s'affranchir des lourdes contrainte
 s du petit dÃ©jeuner et du dÃ©jeuner (faire le cafÃ©, couper les melon
 s, etc.) ;\nâ€¢ une invitation â€” que chacun sâ€™appropriera Ã  sa co
 nvenance â€” Ã  la crÃ©ation, Ã  lâ€™invention, Ã  lâ€™ouverture, Ã  l
 a rencontre et Ã  lâ€™amitiÃ©.\nAutrement dit, nous vous proposons de 
 participer avec nous Ã  une construction magique. Si cette idÃ©e fait 
 naÃ®tre une Ã©tincelle dans vos yeux, alors rejoignez-nous ; nous vous
  attendons.\n\nLaurent Schachmann et toute l'Ã©quipe des animateurs\n\
 nNB : voir la liste des ateliers programmÃ©s sur notre site :\n\nPour 
 plus d'information, aller sur https://epanews.fr/events/vacances-et-ep
 anouissement
DTSTART;TZID=Europe/Paris:20100731T130000
DTEND;TZID=Europe/Paris:20100807T100000
CATEGORIES:43
LOCATION:La Chaise-Dieu (Auvergne)
WEBSITE:
URL:
CONTACT:0663983637
ORGANIZER:Asso Vacances et Epanouissement
ATTACH;FMTTYPE="image/jpeg":http://storage.ning.com/topology/rest/1.0/
 file/get/1662319114?profile=original
ATTENDEE;ROLE=REQ-PARTICIPANT;PARTSTAT=ACCEPTED;RSVP=TRUE;CN="Asso Vac
 ances et Epanouissement":https://epanews.fr/profile/AssociationVacance
 setEpanouis
END:VEVENT
END:VCALENDAR
