BEGIN:VCALENDAR
PRODID:NingEventWidget-v1
VERSION:2.0
METHOD:PUBLISH
BEGIN:VTIMEZONE
TZID:Europe/Paris
X-LIC-LOCATION:Europe/Paris
BEGIN:DAYLIGHT
TZOFFSETFROM:+0100
TZOFFSETTO:+0200
TZNAME:CEST
DTSTART:19700329T020000
RRULE:FREQ=YEARLY;BYMONTH=3;BYDAY=-1SU
END:DAYLIGHT
BEGIN:STANDARD
TZOFFSETFROM:+0200
TZOFFSETTO:+0100
TZNAME:CET
DTSTART:19701025T030000
RRULE:FREQ=YEARLY;BYMONTH=10;BYDAY=-1SU
END:STANDARD
END:VTIMEZONE
BEGIN:VEVENT
UID:2485226:Event:1883442
DTSTAMP:20260423T170720Z
SUMMARY:Vacances Biodanza - Essaouira - Maroc
DESCRIPTION:Animé par Caroline Dekeyser Professeur de Biodanza® Dire
 ctrice de l’Ecole Biodanza Luxembourg et Grande Région\n www.transc
 endance.eu\nwww.biodanza-lux.com\n « Depuis des temps immémoriaux, l
 ’idée du corps a été associée à la douleur, à la maladie et à
  la souffrance. Cette vision nous a amené à des comportements et à 
 des façons de vivre conformistes et dépendantes. La peur de la souff
 rance ne peut se vaincre qu’avec le développement de sa propre capa
 cité à se tourner vers le plaisir; ceci parce qu’il est tant déni
 gré dans l’échelle des valeurs conventionnelles que, pour beaucoup
 , il est synonyme de superficialité, de frivolité et de matérialism
 e. Cependant, il n’existe pas de vrai plaisir qui ne provient pas de
  la profondeur et de l’élan vers la vie. Renforcer sa propre sensib
 ilité pour trouver les chemins qui conduisent au plaisir fait partie 
 de l’apprentissage proposé en Biodanza. Apprendre à jouir de tous 
 les grands et petits plaisirs de la vie est la chose la plus important
 e. » R. Toro Araneda. « Vivre une sexualité épanouie est vivre sa 
 vie dans son point le plus sacré. » Rolando Toro Araneda, créateur 
 de la Biodanza®\nDéroulement du stage: 7 ateliers de Biodanza (« vi
 vencias »); 4 ateliers de réveil corporel matinal avec méditation; 
 2 journées libres.\nPrix du stage: 250 € si paiement avant le 1er m
 ai, 270€ après le 1er mai 2014\n\nInscriptions/renseignements, cont
 actez: Caroline Dekeyser Tél: +33 (0) 9 52 67 76 15 caroline@transcen
 dance.be\nFLYER%20BIODANZA%20MAROC%206%20-%20FR.pdf\n\nPour plus d'inf
 ormation, aller sur https://epanews.fr/events/vacances-biodanza-essaou
 ira-maroc
DTSTART;TZID=Europe/Paris:20140805T073000
DTEND;TZID=Europe/Paris:20140810T170000
CATEGORIES:tous
LOCATION:Essaouira
WEBSITE:http://www.ressourcement-maroc.com/
URL:http://www.ressourcement-maroc.com/
CONTACT:
ORGANIZER:Fabien JACQUET & Caroline DEKEYSER
ATTACH;FMTTYPE="image/jpeg":http://storage.ning.com/topology/rest/1.0/
 file/get/1663119527?profile=original
ATTENDEE;ROLE=REQ-PARTICIPANT;PARTSTAT=ACCEPTED;RSVP=TRUE;CN="JACQUET 
 Fabien":https://epanews.fr/profile/JACQUETFabien
END:VEVENT
END:VCALENDAR
