BEGIN:VCALENDAR
PRODID:NingEventWidget-v1
VERSION:2.0
METHOD:PUBLISH
BEGIN:VTIMEZONE
TZID:Europe/Paris
X-LIC-LOCATION:Europe/Paris
BEGIN:DAYLIGHT
TZOFFSETFROM:+0100
TZOFFSETTO:+0200
TZNAME:CEST
DTSTART:19700329T020000
RRULE:FREQ=YEARLY;BYMONTH=3;BYDAY=-1SU
END:DAYLIGHT
BEGIN:STANDARD
TZOFFSETFROM:+0200
TZOFFSETTO:+0100
TZNAME:CET
DTSTART:19701025T030000
RRULE:FREQ=YEARLY;BYMONTH=10;BYDAY=-1SU
END:STANDARD
END:VTIMEZONE
BEGIN:VEVENT
UID:2485226:Event:851991
DTSTAMP:20260422T023110Z
SUMMARY:Université de l'environnement et de la santé, organisée par
  les Chantiers du Futur
DESCRIPTION:Une semaine de conférences + salon bien-être\njeudi 5 j
 uillet :\n- de 8 h à 9 h : Aïkido + Shutaïdo\n- de 9 h à 10 h 30 
 : Docteur Thierry Glaizot : La maladie de Lyme\n- de 11 h à 12 h 30 :
  Guy Thieux : Incidences des failles de l'écorce terrestre : inter-ac
 tions sur le métabolisme cardiaque, choix d'un lieu de résidence\n- 
 de 14h  à 16 h : Monique Beljanski : L'approche Beljanski et les der
 nières confirmations et avancées réalisées aux Etats-Unis\n- de 17
  h à 19 h 30 : Paul Ariès : La décroissance : objection de conscien
 ce, gratuité de bien-vivre\nPour mieux connaître les conférenciers 
 et leurs thèmes : voir le site\nPossibilité de prendre les repas sur
  place\nPour l'hébergement : voir le site\nIl est possible d'assister
  toute la semaine, ou de choisir une conférence, ou d'acheter un carn
 et de 10 conférences.\n \n\nPour plus d'information, aller sur https
 ://epanews.fr/events/universit-de-l-environnement-et-de-la-sant-organi
 s-par-les-3
DTSTART;TZID=Europe/Paris:20120705T000000
DTEND;TZID=Europe/Paris:20120705T235900
CATEGORIES:tous
LOCATION:Saintes
WEBSITE:http://www.leschantiersdufutur.new.fr
URL:http://www.leschantiersdufutur.new.fr
CONTACT:06 20 79 58 35
ORGANIZER;CN=essentiel:https://epanews.fr/profile/essentiel
ATTACH;FMTTYPE="image/jpeg":
ATTENDEE;ROLE=REQ-PARTICIPANT;PARTSTAT=ACCEPTED;RSVP=TRUE;CN=essentiel
 :https://epanews.fr/profile/essentiel
END:VEVENT
END:VCALENDAR
